BEGIN:VCALENDAR
VERSION:2.0
PRODID:-//Associazione Italiana Kung Fu - ECPv6.15.20//NONSGML v1.0//EN
CALSCALE:GREGORIAN
METHOD:PUBLISH
X-WR-CALNAME:Associazione Italiana Kung Fu
X-ORIGINAL-URL:https://aikmilano.it
X-WR-CALDESC:Eventi per Associazione Italiana Kung Fu
REFRESH-INTERVAL;VALUE=DURATION:PT1H
X-Robots-Tag:noindex
X-PUBLISHED-TTL:PT1H
BEGIN:VTIMEZONE
TZID:Europe/Rome
BEGIN:DAYLIGHT
TZOFFSETFROM:+0100
TZOFFSETTO:+0200
TZNAME:CEST
DTSTART:20180325T010000
END:DAYLIGHT
BEGIN:STANDARD
TZOFFSETFROM:+0200
TZOFFSETTO:+0100
TZNAME:CET
DTSTART:20181028T010000
END:STANDARD
BEGIN:DAYLIGHT
TZOFFSETFROM:+0100
TZOFFSETTO:+0200
TZNAME:CEST
DTSTART:20190331T010000
END:DAYLIGHT
BEGIN:STANDARD
TZOFFSETFROM:+0200
TZOFFSETTO:+0100
TZNAME:CET
DTSTART:20191027T010000
END:STANDARD
BEGIN:DAYLIGHT
TZOFFSETFROM:+0100
TZOFFSETTO:+0200
TZNAME:CEST
DTSTART:20200329T010000
END:DAYLIGHT
BEGIN:STANDARD
TZOFFSETFROM:+0200
TZOFFSETTO:+0100
TZNAME:CET
DTSTART:20201025T010000
END:STANDARD
END:VTIMEZONE
BEGIN:VEVENT
DTSTART;TZID=Europe/Rome:20190315T190000
DTEND;TZID=Europe/Rome:20190315T210000
DTSTAMP:20260421T141514
CREATED:20181119T010016Z
LAST-MODIFIED:20181119T010016Z
UID:1726-1552676400-1552683600@aikmilano.it
SUMMARY:Approfondimento su Tui Fa
DESCRIPTION:Lezione di approfondimento su Tui Fa (solo per gli Associati)
URL:https://aikmilano.it/evento/approfondimento-sui-calci/
CATEGORIES:Pubblico
ATTACH;FMTTYPE=:
END:VEVENT
BEGIN:VEVENT
DTSTART;TZID=Europe/Rome:20190315T173000
DTEND;TZID=Europe/Rome:20190315T183000
DTSTAMP:20260421T141514
CREATED:20181226T003035Z
LAST-MODIFIED:20181226T003035Z
UID:2614-1552671000-1552674600@aikmilano.it
SUMMARY:Palestra non disponibile
DESCRIPTION:
URL:https://aikmilano.it/evento/palestra-non-disponibile-206/
CATEGORIES:Attività Varie
END:VEVENT
BEGIN:VEVENT
DTSTART;TZID=Europe/Rome:20190314T190000
DTEND;TZID=Europe/Rome:20190314T210000
DTSTAMP:20260421T141514
CREATED:20181226T002957Z
LAST-MODIFIED:20181226T002957Z
UID:2612-1552590000-1552597200@aikmilano.it
SUMMARY:Palestra non disponibile
DESCRIPTION:
URL:https://aikmilano.it/evento/palestra-non-disponibile-205/
CATEGORIES:Attività Varie
END:VEVENT
BEGIN:VEVENT
DTSTART;TZID=Europe/Rome:20190314T180000
DTEND;TZID=Europe/Rome:20190314T190000
DTSTAMP:20260421T141514
CREATED:20181226T002927Z
LAST-MODIFIED:20181226T002927Z
UID:2610-1552586400-1552590000@aikmilano.it
SUMMARY:Palestra non disponibile
DESCRIPTION:
URL:https://aikmilano.it/evento/palestra-non-disponibile-204/
CATEGORIES:Attività Varie
END:VEVENT
BEGIN:VEVENT
DTSTART;TZID=Europe/Rome:20190313T190000
DTEND;TZID=Europe/Rome:20190313T210000
DTSTAMP:20260421T141514
CREATED:20181226T002848Z
LAST-MODIFIED:20181226T002848Z
UID:2608-1552503600-1552510800@aikmilano.it
SUMMARY:Palestra non disponibile
DESCRIPTION:
URL:https://aikmilano.it/evento/palestra-non-disponibile-203/
CATEGORIES:Attività Varie
END:VEVENT
BEGIN:VEVENT
DTSTART;TZID=Europe/Rome:20190313T173000
DTEND;TZID=Europe/Rome:20190313T190000
DTSTAMP:20260421T141514
CREATED:20181226T002801Z
LAST-MODIFIED:20181226T002801Z
UID:2606-1552498200-1552503600@aikmilano.it
SUMMARY:Palestra non disponibile
DESCRIPTION:
URL:https://aikmilano.it/evento/palestra-non-disponibile-202/
CATEGORIES:Attività Varie
END:VEVENT
BEGIN:VEVENT
DTSTART;TZID=Europe/Rome:20190312T190000
DTEND;TZID=Europe/Rome:20190312T210000
DTSTAMP:20260421T141514
CREATED:20181226T002236Z
LAST-MODIFIED:20181226T002236Z
UID:2598-1552417200-1552424400@aikmilano.it
SUMMARY:Palestra non disponibile
DESCRIPTION:
URL:https://aikmilano.it/evento/palestra-non-disponibile-198/
CATEGORIES:Attività Varie
END:VEVENT
BEGIN:VEVENT
DTSTART;TZID=Europe/Rome:20190312T180000
DTEND;TZID=Europe/Rome:20190312T190000
DTSTAMP:20260421T141514
CREATED:20181226T002158Z
LAST-MODIFIED:20181226T002158Z
UID:2596-1552413600-1552417200@aikmilano.it
SUMMARY:Palestra non disponibile
DESCRIPTION:
URL:https://aikmilano.it/evento/palestra-non-disponibile-197/
CATEGORIES:Attività Varie
END:VEVENT
BEGIN:VEVENT
DTSTART;TZID=Europe/Rome:20190311T190000
DTEND;TZID=Europe/Rome:20190311T210000
DTSTAMP:20260421T141514
CREATED:20181226T002125Z
LAST-MODIFIED:20181226T002125Z
UID:2594-1552330800-1552338000@aikmilano.it
SUMMARY:Palestra non disponibile
DESCRIPTION:
URL:https://aikmilano.it/evento/palestra-non-disponibile-196/
CATEGORIES:Attività Varie
END:VEVENT
BEGIN:VEVENT
DTSTART;TZID=Europe/Rome:20190311T173000
DTEND;TZID=Europe/Rome:20190311T190000
DTSTAMP:20260421T141514
CREATED:20181226T002023Z
LAST-MODIFIED:20181226T002023Z
UID:2592-1552325400-1552330800@aikmilano.it
SUMMARY:Palestra non disponibile
DESCRIPTION:
URL:https://aikmilano.it/evento/palestra-non-disponibile-195/
CATEGORIES:Attività Varie
END:VEVENT
BEGIN:VEVENT
DTSTART;TZID=Europe/Rome:20190309T110000
DTEND;TZID=Europe/Rome:20190309T123000
DTSTAMP:20260421T141514
CREATED:20181212T163040Z
LAST-MODIFIED:20181212T163040Z
UID:2200-1552129200-1552134600@aikmilano.it
SUMMARY:Palestra non disponibile
DESCRIPTION:
URL:https://aikmilano.it/evento/palestra-non-disponibile-79/
CATEGORIES:Attività Varie
END:VEVENT
BEGIN:VEVENT
DTSTART;TZID=Europe/Rome:20190308T173000
DTEND;TZID=Europe/Rome:20190308T183000
DTSTAMP:20260421T141514
CREATED:20181226T001921Z
LAST-MODIFIED:20181226T001921Z
UID:2590-1552066200-1552069800@aikmilano.it
SUMMARY:Palestra non disponibile
DESCRIPTION:
URL:https://aikmilano.it/evento/palestra-non-disponibile-194/
CATEGORIES:Attività Varie
END:VEVENT
BEGIN:VEVENT
DTSTART;TZID=Europe/Rome:20190307T190000
DTEND;TZID=Europe/Rome:20190307T210000
DTSTAMP:20260421T141514
CREATED:20181226T001848Z
LAST-MODIFIED:20181226T001848Z
UID:2588-1551985200-1551992400@aikmilano.it
SUMMARY:Palestra non disponibile
DESCRIPTION:
URL:https://aikmilano.it/evento/palestra-non-disponibile-193/
CATEGORIES:Attività Varie
END:VEVENT
BEGIN:VEVENT
DTSTART;TZID=Europe/Rome:20190307T180000
DTEND;TZID=Europe/Rome:20190307T190000
DTSTAMP:20260421T141514
CREATED:20181226T001812Z
LAST-MODIFIED:20181226T001812Z
UID:2586-1551981600-1551985200@aikmilano.it
SUMMARY:Palestra non disponibile
DESCRIPTION:
URL:https://aikmilano.it/evento/palestra-non-disponibile-192/
CATEGORIES:Attività Varie
END:VEVENT
BEGIN:VEVENT
DTSTART;TZID=Europe/Rome:20190306T190000
DTEND;TZID=Europe/Rome:20190306T210000
DTSTAMP:20260421T141514
CREATED:20181226T001708Z
LAST-MODIFIED:20181226T001708Z
UID:2584-1551898800-1551906000@aikmilano.it
SUMMARY:Palestra non disponibile
DESCRIPTION:
URL:https://aikmilano.it/evento/palestra-non-disponibile-191/
CATEGORIES:Attività Varie
END:VEVENT
BEGIN:VEVENT
DTSTART;TZID=Europe/Rome:20190306T173000
DTEND;TZID=Europe/Rome:20190306T190000
DTSTAMP:20260421T141514
CREATED:20181226T001633Z
LAST-MODIFIED:20181226T001633Z
UID:2582-1551893400-1551898800@aikmilano.it
SUMMARY:Palestra non disponibile
DESCRIPTION:
URL:https://aikmilano.it/evento/palestra-non-disponibile-190/
CATEGORIES:Attività Varie
END:VEVENT
BEGIN:VEVENT
DTSTART;TZID=Europe/Rome:20190305T190000
DTEND;TZID=Europe/Rome:20190305T210000
DTSTAMP:20260421T141514
CREATED:20181226T001559Z
LAST-MODIFIED:20181226T001559Z
UID:2580-1551812400-1551819600@aikmilano.it
SUMMARY:Palestra non disponibile
DESCRIPTION:
URL:https://aikmilano.it/evento/palestra-non-disponibile-189/
CATEGORIES:Attività Varie
END:VEVENT
BEGIN:VEVENT
DTSTART;TZID=Europe/Rome:20190305T180000
DTEND;TZID=Europe/Rome:20190305T190000
DTSTAMP:20260421T141514
CREATED:20181226T001523Z
LAST-MODIFIED:20181226T001523Z
UID:2578-1551808800-1551812400@aikmilano.it
SUMMARY:Palestra non disponibile
DESCRIPTION:
URL:https://aikmilano.it/evento/palestra-non-disponibile-188/
CATEGORIES:Attività Varie
END:VEVENT
BEGIN:VEVENT
DTSTART;TZID=Europe/Rome:20190304T190000
DTEND;TZID=Europe/Rome:20190304T210000
DTSTAMP:20260421T141514
CREATED:20181226T001438Z
LAST-MODIFIED:20181226T001438Z
UID:2576-1551726000-1551733200@aikmilano.it
SUMMARY:Palestra non disponibile
DESCRIPTION:
URL:https://aikmilano.it/evento/palestra-non-disponibile-187/
CATEGORIES:Attività Varie
END:VEVENT
BEGIN:VEVENT
DTSTART;TZID=Europe/Rome:20190304T173000
DTEND;TZID=Europe/Rome:20190304T190000
DTSTAMP:20260421T141514
CREATED:20181226T001402Z
LAST-MODIFIED:20181226T001402Z
UID:2574-1551720600-1551726000@aikmilano.it
SUMMARY:Palestra non disponibile
DESCRIPTION:
URL:https://aikmilano.it/evento/palestra-non-disponibile-186/
CATEGORIES:Attività Varie
END:VEVENT
BEGIN:VEVENT
DTSTART;TZID=Europe/Rome:20190302T143000
DTEND;TZID=Europe/Rome:20190302T163000
DTSTAMP:20260421T141514
CREATED:20181212T143934Z
LAST-MODIFIED:20181212T143934Z
UID:2134-1551537000-1551544200@aikmilano.it
SUMMARY:Tecniche di Kung Fu per l’autodifesa nella vita quotidiana
DESCRIPTION:Terzo appuntamento con il corso Tecniche di Kung Fu nella vita quotidiana
URL:https://aikmilano.it/evento/tecniche-di-kung-fu-per-lautodifesa-nella-vita-quotidiana-3/
CATEGORIES:Pubblico
ATTACH;FMTTYPE=:
END:VEVENT
BEGIN:VEVENT
DTSTART;TZID=Europe/Rome:20190302T143000
DTEND;TZID=Europe/Rome:20190302T163000
DTSTAMP:20260421T141514
CREATED:20181209T220612Z
LAST-MODIFIED:20181209T220612Z
UID:2104-1551537000-1551544200@aikmilano.it
SUMMARY:Palestra non disponibile
DESCRIPTION:
URL:https://aikmilano.it/evento/palestra-non-disponibile-61/
CATEGORIES:Attività Varie
END:VEVENT
BEGIN:VEVENT
DTSTART;TZID=Europe/Rome:20190302T110000
DTEND;TZID=Europe/Rome:20190302T123000
DTSTAMP:20260421T141514
CREATED:20181212T161233Z
LAST-MODIFIED:20181212T161233Z
UID:2182-1551524400-1551529800@aikmilano.it
SUMMARY:Palestra non disponibile
DESCRIPTION:
URL:https://aikmilano.it/evento/palestra-non-disponibile-70/
CATEGORIES:Attività Varie
END:VEVENT
BEGIN:VEVENT
DTSTART;TZID=Europe/Rome:20190302T080000
DTEND;TZID=Europe/Rome:20190302T110000
DTSTAMP:20260421T141514
CREATED:20181212T161147Z
LAST-MODIFIED:20181212T161147Z
UID:2180-1551513600-1551524400@aikmilano.it
SUMMARY:Palestra non disponibile
DESCRIPTION:
URL:https://aikmilano.it/evento/palestra-non-disponibile-69/
CATEGORIES:Attività Varie
END:VEVENT
BEGIN:VEVENT
DTSTART;TZID=Europe/Rome:20190302T080000
DTEND;TZID=Europe/Rome:20190302T110000
DTSTAMP:20260421T141514
CREATED:20181212T151311Z
LAST-MODIFIED:20181212T151311Z
UID:2150-1551513600-1551524400@aikmilano.it
SUMMARY:Corso Maestri e Corso Istruttori
DESCRIPTION:Sesto appuntamento con i corsi maestri e istruttori (solo Associati ammessi)
URL:https://aikmilano.it/evento/corso-maestri-e-corso-istruttori-3/
CATEGORIES:Pubblico
ATTACH;FMTTYPE=:
END:VEVENT
BEGIN:VEVENT
DTSTART;TZID=Europe/Rome:20190301T190000
DTEND;TZID=Europe/Rome:20190301T210000
DTSTAMP:20260421T141514
CREATED:20190225T145250Z
LAST-MODIFIED:20190225T145250Z
UID:3111-1551466800-1551474000@aikmilano.it
SUMMARY:Palestra non disponibile
DESCRIPTION:
URL:https://aikmilano.it/evento/palestra-non-disponibile-337/
CATEGORIES:Attività Varie
END:VEVENT
BEGIN:VEVENT
DTSTART;TZID=Europe/Rome:20190228T190000
DTEND;TZID=Europe/Rome:20190228T210000
DTSTAMP:20260421T141514
CREATED:20181226T001212Z
LAST-MODIFIED:20181226T001212Z
UID:2570-1551380400-1551387600@aikmilano.it
SUMMARY:Palestra non disponibile
DESCRIPTION:
URL:https://aikmilano.it/evento/palestra-non-disponibile-184/
CATEGORIES:Attività Varie
END:VEVENT
BEGIN:VEVENT
DTSTART;TZID=Europe/Rome:20190228T180000
DTEND;TZID=Europe/Rome:20190228T190000
DTSTAMP:20260421T141514
CREATED:20181226T001132Z
LAST-MODIFIED:20181226T001132Z
UID:2568-1551376800-1551380400@aikmilano.it
SUMMARY:Palestra non disponibile
DESCRIPTION:
URL:https://aikmilano.it/evento/palestra-non-disponibile-183/
CATEGORIES:Attività Varie
END:VEVENT
BEGIN:VEVENT
DTSTART;TZID=Europe/Rome:20190227T190000
DTEND;TZID=Europe/Rome:20190227T210000
DTSTAMP:20260421T141514
CREATED:20181226T001046Z
LAST-MODIFIED:20181226T001046Z
UID:2566-1551294000-1551301200@aikmilano.it
SUMMARY:Palestra non disponibile
DESCRIPTION:
URL:https://aikmilano.it/evento/palestra-non-disponibile-182/
CATEGORIES:Attività Varie
END:VEVENT
BEGIN:VEVENT
DTSTART;TZID=Europe/Rome:20190227T173000
DTEND;TZID=Europe/Rome:20190227T190000
DTSTAMP:20260421T141514
CREATED:20181226T001017Z
LAST-MODIFIED:20181226T001017Z
UID:2564-1551288600-1551294000@aikmilano.it
SUMMARY:Palestra non disponibile
DESCRIPTION:
URL:https://aikmilano.it/evento/palestra-non-disponibile-181/
CATEGORIES:Attività Varie
END:VEVENT
END:VCALENDAR