BEGIN:VCALENDAR
VERSION:2.0
PRODID:-//Associazione Italiana Kung Fu - ECPv6.15.20//NONSGML v1.0//EN
CALSCALE:GREGORIAN
METHOD:PUBLISH
X-ORIGINAL-URL:https://aikmilano.it
X-WR-CALDESC:Eventi per Associazione Italiana Kung Fu
REFRESH-INTERVAL;VALUE=DURATION:PT1H
X-Robots-Tag:noindex
X-PUBLISHED-TTL:PT1H
BEGIN:VTIMEZONE
TZID:Europe/Rome
BEGIN:DAYLIGHT
TZOFFSETFROM:+0100
TZOFFSETTO:+0200
TZNAME:CEST
DTSTART:20180325T010000
END:DAYLIGHT
BEGIN:STANDARD
TZOFFSETFROM:+0200
TZOFFSETTO:+0100
TZNAME:CET
DTSTART:20181028T010000
END:STANDARD
BEGIN:DAYLIGHT
TZOFFSETFROM:+0100
TZOFFSETTO:+0200
TZNAME:CEST
DTSTART:20190331T010000
END:DAYLIGHT
BEGIN:STANDARD
TZOFFSETFROM:+0200
TZOFFSETTO:+0100
TZNAME:CET
DTSTART:20191027T010000
END:STANDARD
BEGIN:DAYLIGHT
TZOFFSETFROM:+0100
TZOFFSETTO:+0200
TZNAME:CEST
DTSTART:20200329T010000
END:DAYLIGHT
BEGIN:STANDARD
TZOFFSETFROM:+0200
TZOFFSETTO:+0100
TZNAME:CET
DTSTART:20201025T010000
END:STANDARD
END:VTIMEZONE
BEGIN:VEVENT
DTSTART;TZID=Europe/Rome:20190302T080000
DTEND;TZID=Europe/Rome:20190302T110000
DTSTAMP:20260421T170411
CREATED:20181212T151311Z
LAST-MODIFIED:20181212T151311Z
UID:2150-1551513600-1551524400@aikmilano.it
SUMMARY:Corso Maestri e Corso Istruttori
DESCRIPTION:Sesto appuntamento con i corsi maestri e istruttori (solo Associati ammessi)
URL:https://aikmilano.it/evento/corso-maestri-e-corso-istruttori-3/
CATEGORIES:Pubblico
ATTACH;FMTTYPE=:
END:VEVENT
BEGIN:VEVENT
DTSTART;TZID=Europe/Rome:20190301T190000
DTEND;TZID=Europe/Rome:20190301T210000
DTSTAMP:20260421T170411
CREATED:20190225T145250Z
LAST-MODIFIED:20190225T145250Z
UID:3111-1551466800-1551474000@aikmilano.it
SUMMARY:Palestra non disponibile
DESCRIPTION:
URL:https://aikmilano.it/evento/palestra-non-disponibile-337/
CATEGORIES:Attività Varie
END:VEVENT
BEGIN:VEVENT
DTSTART;TZID=Europe/Rome:20190228T190000
DTEND;TZID=Europe/Rome:20190228T210000
DTSTAMP:20260421T170411
CREATED:20181226T001212Z
LAST-MODIFIED:20181226T001212Z
UID:2570-1551380400-1551387600@aikmilano.it
SUMMARY:Palestra non disponibile
DESCRIPTION:
URL:https://aikmilano.it/evento/palestra-non-disponibile-184/
CATEGORIES:Attività Varie
END:VEVENT
BEGIN:VEVENT
DTSTART;TZID=Europe/Rome:20190228T180000
DTEND;TZID=Europe/Rome:20190228T190000
DTSTAMP:20260421T170411
CREATED:20181226T001132Z
LAST-MODIFIED:20181226T001132Z
UID:2568-1551376800-1551380400@aikmilano.it
SUMMARY:Palestra non disponibile
DESCRIPTION:
URL:https://aikmilano.it/evento/palestra-non-disponibile-183/
CATEGORIES:Attività Varie
END:VEVENT
BEGIN:VEVENT
DTSTART;TZID=Europe/Rome:20190227T190000
DTEND;TZID=Europe/Rome:20190227T210000
DTSTAMP:20260421T170411
CREATED:20181226T001046Z
LAST-MODIFIED:20181226T001046Z
UID:2566-1551294000-1551301200@aikmilano.it
SUMMARY:Palestra non disponibile
DESCRIPTION:
URL:https://aikmilano.it/evento/palestra-non-disponibile-182/
CATEGORIES:Attività Varie
END:VEVENT
BEGIN:VEVENT
DTSTART;TZID=Europe/Rome:20190227T173000
DTEND;TZID=Europe/Rome:20190227T190000
DTSTAMP:20260421T170411
CREATED:20181226T001017Z
LAST-MODIFIED:20181226T001017Z
UID:2564-1551288600-1551294000@aikmilano.it
SUMMARY:Palestra non disponibile
DESCRIPTION:
URL:https://aikmilano.it/evento/palestra-non-disponibile-181/
CATEGORIES:Attività Varie
END:VEVENT
BEGIN:VEVENT
DTSTART;TZID=Europe/Rome:20190226T190000
DTEND;TZID=Europe/Rome:20190226T210000
DTSTAMP:20260421T170411
CREATED:20181226T000915Z
LAST-MODIFIED:20181226T000915Z
UID:2562-1551207600-1551214800@aikmilano.it
SUMMARY:Palestra non disponibile
DESCRIPTION:
URL:https://aikmilano.it/evento/palestra-non-disponibile-180/
CATEGORIES:Attività Varie
END:VEVENT
BEGIN:VEVENT
DTSTART;TZID=Europe/Rome:20190226T180000
DTEND;TZID=Europe/Rome:20190226T190000
DTSTAMP:20260421T170411
CREATED:20181226T000845Z
LAST-MODIFIED:20181226T000845Z
UID:2560-1551204000-1551207600@aikmilano.it
SUMMARY:Palestra non disponibile
DESCRIPTION:
URL:https://aikmilano.it/evento/palestra-non-disponibile-179/
CATEGORIES:Attività Varie
END:VEVENT
BEGIN:VEVENT
DTSTART;TZID=Europe/Rome:20190225T190000
DTEND;TZID=Europe/Rome:20190225T210000
DTSTAMP:20260421T170411
CREATED:20181226T000810Z
LAST-MODIFIED:20181226T000810Z
UID:2558-1551121200-1551128400@aikmilano.it
SUMMARY:Palestra non disponibile
DESCRIPTION:
URL:https://aikmilano.it/evento/palestra-non-disponibile-178/
CATEGORIES:Attività Varie
END:VEVENT
BEGIN:VEVENT
DTSTART;TZID=Europe/Rome:20190225T173000
DTEND;TZID=Europe/Rome:20190225T190000
DTSTAMP:20260421T170411
CREATED:20181226T000740Z
LAST-MODIFIED:20181226T000740Z
UID:2556-1551115800-1551121200@aikmilano.it
SUMMARY:Palestra non disponibile
DESCRIPTION:
URL:https://aikmilano.it/evento/palestra-non-disponibile-177/
CATEGORIES:Attività Varie
END:VEVENT
BEGIN:VEVENT
DTSTART;TZID=Europe/Rome:20190223T180000
DTEND;TZID=Europe/Rome:20190223T200000
DTSTAMP:20260421T170411
CREATED:20190221T171757Z
LAST-MODIFIED:20190221T171757Z
UID:3046-1550944800-1550952000@aikmilano.it
SUMMARY:Palestra non disponibile
DESCRIPTION:
URL:https://aikmilano.it/evento/palestra-non-disponibile-109/
CATEGORIES:Attività Varie
END:VEVENT
BEGIN:VEVENT
DTSTART;TZID=Europe/Rome:20190223T110000
DTEND;TZID=Europe/Rome:20190223T123000
DTSTAMP:20260421T170411
CREATED:20181212T164042Z
LAST-MODIFIED:20181212T164042Z
UID:2214-1550919600-1550925000@aikmilano.it
SUMMARY:Palestra non disponibile
DESCRIPTION:
URL:https://aikmilano.it/evento/palestra-non-disponibile-86/
CATEGORIES:Attività Varie
END:VEVENT
BEGIN:VEVENT
DTSTART;TZID=Europe/Rome:20190223T080000
DTEND;TZID=Europe/Rome:20190223T110000
DTSTAMP:20260421T170411
CREATED:20181212T164009Z
LAST-MODIFIED:20181212T164009Z
UID:2212-1550908800-1550919600@aikmilano.it
SUMMARY:Palestra non disponibile
DESCRIPTION:
URL:https://aikmilano.it/evento/palestra-non-disponibile-85/
CATEGORIES:Attività Varie
END:VEVENT
BEGIN:VEVENT
DTSTART;TZID=Europe/Rome:20190222T190000
DTEND;TZID=Europe/Rome:20190222T210000
DTSTAMP:20260421T170411
CREATED:20181221T235646Z
LAST-MODIFIED:20181221T235646Z
UID:2502-1550862000-1550869200@aikmilano.it
SUMMARY:Palestra non disponibile
DESCRIPTION:
URL:https://aikmilano.it/evento/palestra-non-disponibile-158/
CATEGORIES:Attività Varie
END:VEVENT
BEGIN:VEVENT
DTSTART;TZID=Europe/Rome:20190222T173000
DTEND;TZID=Europe/Rome:20190222T183000
DTSTAMP:20260421T170411
CREATED:20181226T000606Z
LAST-MODIFIED:20181226T000606Z
UID:2554-1550856600-1550860200@aikmilano.it
SUMMARY:Palestra non disponibile
DESCRIPTION:
URL:https://aikmilano.it/evento/palestra-non-disponibile-176/
CATEGORIES:Attività Varie
END:VEVENT
BEGIN:VEVENT
DTSTART;TZID=Europe/Rome:20190221T190000
DTEND;TZID=Europe/Rome:20190221T210000
DTSTAMP:20260421T170411
CREATED:20181226T000535Z
LAST-MODIFIED:20181226T000535Z
UID:2552-1550775600-1550782800@aikmilano.it
SUMMARY:Palestra non disponibile
DESCRIPTION:
URL:https://aikmilano.it/evento/palestra-non-disponibile-175/
CATEGORIES:Attività Varie
END:VEVENT
BEGIN:VEVENT
DTSTART;TZID=Europe/Rome:20190221T180000
DTEND;TZID=Europe/Rome:20190221T190000
DTSTAMP:20260421T170411
CREATED:20181226T000505Z
LAST-MODIFIED:20181226T000505Z
UID:2550-1550772000-1550775600@aikmilano.it
SUMMARY:Palestra non disponibile
DESCRIPTION:
URL:https://aikmilano.it/evento/palestra-non-disponibile-174/
CATEGORIES:Attività Varie
END:VEVENT
BEGIN:VEVENT
DTSTART;TZID=Europe/Rome:20190220T190000
DTEND;TZID=Europe/Rome:20190220T210000
DTSTAMP:20260421T170411
CREATED:20181226T000413Z
LAST-MODIFIED:20181226T000413Z
UID:2548-1550689200-1550696400@aikmilano.it
SUMMARY:Palestra non disponibile
DESCRIPTION:
URL:https://aikmilano.it/evento/palestra-non-disponibile-173/
CATEGORIES:Attività Varie
END:VEVENT
BEGIN:VEVENT
DTSTART;TZID=Europe/Rome:20190220T173000
DTEND;TZID=Europe/Rome:20190220T190000
DTSTAMP:20260421T170411
CREATED:20181226T000339Z
LAST-MODIFIED:20181226T000339Z
UID:2546-1550683800-1550689200@aikmilano.it
SUMMARY:Palestra non disponibile
DESCRIPTION:
URL:https://aikmilano.it/evento/palestra-non-disponibile-172/
CATEGORIES:Attività Varie
END:VEVENT
BEGIN:VEVENT
DTSTART;TZID=Europe/Rome:20190219T190000
DTEND;TZID=Europe/Rome:20190219T210000
DTSTAMP:20260421T170411
CREATED:20181226T000301Z
LAST-MODIFIED:20181226T000301Z
UID:2544-1550602800-1550610000@aikmilano.it
SUMMARY:Palestra non disponibile
DESCRIPTION:
URL:https://aikmilano.it/evento/palestra-non-disponibile-171/
CATEGORIES:Attività Varie
END:VEVENT
BEGIN:VEVENT
DTSTART;TZID=Europe/Rome:20190219T180000
DTEND;TZID=Europe/Rome:20190219T190000
DTSTAMP:20260421T170411
CREATED:20181226T000223Z
LAST-MODIFIED:20181226T000223Z
UID:2542-1550599200-1550602800@aikmilano.it
SUMMARY:Palestra non disponibile
DESCRIPTION:
URL:https://aikmilano.it/evento/palestra-non-disponibile-170/
CATEGORIES:Attività Varie
END:VEVENT
BEGIN:VEVENT
DTSTART;TZID=Europe/Rome:20190218T190000
DTEND;TZID=Europe/Rome:20190218T210000
DTSTAMP:20260421T170411
CREATED:20181226T000142Z
LAST-MODIFIED:20181226T000142Z
UID:2540-1550516400-1550523600@aikmilano.it
SUMMARY:Palestra non disponibile
DESCRIPTION:
URL:https://aikmilano.it/evento/palestra-non-disponibile-169/
CATEGORIES:Attività Varie
END:VEVENT
BEGIN:VEVENT
DTSTART;TZID=Europe/Rome:20190218T173000
DTEND;TZID=Europe/Rome:20190218T190000
DTSTAMP:20260421T170411
CREATED:20181226T000056Z
LAST-MODIFIED:20181226T000056Z
UID:2538-1550511000-1550516400@aikmilano.it
SUMMARY:Palestra non disponibile
DESCRIPTION:
URL:https://aikmilano.it/evento/palestra-non-disponibile-168/
CATEGORIES:Attività Varie
END:VEVENT
BEGIN:VEVENT
DTSTART;TZID=Europe/Rome:20190216T110000
DTEND;TZID=Europe/Rome:20190216T123000
DTSTAMP:20260421T170411
CREATED:20181212T162253Z
LAST-MODIFIED:20181212T162253Z
UID:2198-1550314800-1550320200@aikmilano.it
SUMMARY:Palestra non disponibile
DESCRIPTION:
URL:https://aikmilano.it/evento/palestra-non-disponibile-78/
CATEGORIES:Attività Varie
END:VEVENT
BEGIN:VEVENT
DTSTART;TZID=Europe/Rome:20190215T193000
DTEND;TZID=Europe/Rome:20190215T210000
DTSTAMP:20260421T170411
CREATED:20181221T235601Z
LAST-MODIFIED:20181221T235601Z
UID:2500-1550259000-1550264400@aikmilano.it
SUMMARY:Palestra non disponibile
DESCRIPTION:
URL:https://aikmilano.it/evento/palestra-non-disponibile-157/
CATEGORIES:Attività Varie
END:VEVENT
BEGIN:VEVENT
DTSTART;TZID=Europe/Rome:20190215T190000
DTEND;TZID=Europe/Rome:20190215T210000
DTSTAMP:20260421T170411
CREATED:20181119T005644Z
LAST-MODIFIED:20181119T005644Z
UID:1723-1550257200-1550264400@aikmilano.it
SUMMARY:Approfondimento su Ti Kung Chuan
DESCRIPTION:Lezione di approfondimento su Ti Kung Chuan (solo per gli Associati)
URL:https://aikmilano.it/evento/approfondimento-sulle-cadute/
CATEGORIES:Pubblico
END:VEVENT
BEGIN:VEVENT
DTSTART;TZID=Europe/Rome:20190215T173000
DTEND;TZID=Europe/Rome:20190215T183000
DTSTAMP:20260421T170411
CREATED:20181221T235515Z
LAST-MODIFIED:20181221T235515Z
UID:2498-1550251800-1550255400@aikmilano.it
SUMMARY:Palestra non disponibile
DESCRIPTION:
URL:https://aikmilano.it/evento/palestra-non-disponibile-156/
CATEGORIES:Attività Varie
END:VEVENT
BEGIN:VEVENT
DTSTART;TZID=Europe/Rome:20190214T190000
DTEND;TZID=Europe/Rome:20190214T210000
DTSTAMP:20260421T170411
CREATED:20181222T000500Z
LAST-MODIFIED:20181222T000500Z
UID:2520-1550170800-1550178000@aikmilano.it
SUMMARY:Palestra non disponibile
DESCRIPTION:
URL:https://aikmilano.it/evento/palestra-non-disponibile-167/
CATEGORIES:Attività Varie
END:VEVENT
BEGIN:VEVENT
DTSTART;TZID=Europe/Rome:20190214T180000
DTEND;TZID=Europe/Rome:20190214T190000
DTSTAMP:20260421T170411
CREATED:20181222T000424Z
LAST-MODIFIED:20181222T000424Z
UID:2518-1550167200-1550170800@aikmilano.it
SUMMARY:Palestra non disponibile
DESCRIPTION:
URL:https://aikmilano.it/evento/palestra-non-disponibile-166/
CATEGORIES:Attività Varie
END:VEVENT
BEGIN:VEVENT
DTSTART;TZID=Europe/Rome:20190213T190000
DTEND;TZID=Europe/Rome:20190213T210000
DTSTAMP:20260421T170411
CREATED:20181222T000230Z
LAST-MODIFIED:20181222T000230Z
UID:2514-1550084400-1550091600@aikmilano.it
SUMMARY:Palestra non disponibile
DESCRIPTION:
URL:https://aikmilano.it/evento/palestra-non-disponibile-164/
CATEGORIES:Attività Varie
END:VEVENT
END:VCALENDAR