BEGIN:VCALENDAR
VERSION:2.0
PRODID:-//Associazione Italiana Kung Fu - ECPv6.15.20//NONSGML v1.0//EN
CALSCALE:GREGORIAN
METHOD:PUBLISH
X-WR-CALNAME:Associazione Italiana Kung Fu
X-ORIGINAL-URL:https://aikmilano.it
X-WR-CALDESC:Eventi per Associazione Italiana Kung Fu
REFRESH-INTERVAL;VALUE=DURATION:PT1H
X-Robots-Tag:noindex
X-PUBLISHED-TTL:PT1H
BEGIN:VTIMEZONE
TZID:Europe/Rome
BEGIN:DAYLIGHT
TZOFFSETFROM:+0100
TZOFFSETTO:+0200
TZNAME:CEST
DTSTART:20180325T010000
END:DAYLIGHT
BEGIN:STANDARD
TZOFFSETFROM:+0200
TZOFFSETTO:+0100
TZNAME:CET
DTSTART:20181028T010000
END:STANDARD
BEGIN:DAYLIGHT
TZOFFSETFROM:+0100
TZOFFSETTO:+0200
TZNAME:CEST
DTSTART:20190331T010000
END:DAYLIGHT
BEGIN:STANDARD
TZOFFSETFROM:+0200
TZOFFSETTO:+0100
TZNAME:CET
DTSTART:20191027T010000
END:STANDARD
BEGIN:DAYLIGHT
TZOFFSETFROM:+0100
TZOFFSETTO:+0200
TZNAME:CEST
DTSTART:20200329T010000
END:DAYLIGHT
BEGIN:STANDARD
TZOFFSETFROM:+0200
TZOFFSETTO:+0100
TZNAME:CET
DTSTART:20201025T010000
END:STANDARD
END:VTIMEZONE
BEGIN:VEVENT
DTSTART;TZID=Europe/Rome:20190209T143000
DTEND;TZID=Europe/Rome:20190209T163000
DTSTAMP:20260421T211242
CREATED:20181209T220453Z
LAST-MODIFIED:20181209T220453Z
UID:2102-1549722600-1549729800@aikmilano.it
SUMMARY:Palestra non disponibile
DESCRIPTION:
URL:https://aikmilano.it/evento/palestra-non-disponibile-60/
CATEGORIES:Attività Varie
END:VEVENT
BEGIN:VEVENT
DTSTART;TZID=Europe/Rome:20190209T110000
DTEND;TZID=Europe/Rome:20190209T123000
DTSTAMP:20260421T211242
CREATED:20181212T160449Z
LAST-MODIFIED:20181212T160449Z
UID:2171-1549710000-1549715400@aikmilano.it
SUMMARY:Palestra non disponibile
DESCRIPTION:
URL:https://aikmilano.it/evento/palestra-non-disponibile-65/
CATEGORIES:Attività Varie
END:VEVENT
BEGIN:VEVENT
DTSTART;TZID=Europe/Rome:20190209T080000
DTEND;TZID=Europe/Rome:20190209T110000
DTSTAMP:20260421T211242
CREATED:20181212T160159Z
LAST-MODIFIED:20181212T160159Z
UID:2169-1549699200-1549710000@aikmilano.it
SUMMARY:Palestra non disponibile
DESCRIPTION:
URL:https://aikmilano.it/evento/palestra-non-disponibile-57/
CATEGORIES:Attività Varie
END:VEVENT
BEGIN:VEVENT
DTSTART;TZID=Europe/Rome:20190209T080000
DTEND;TZID=Europe/Rome:20190209T110000
DTSTAMP:20260421T211242
CREATED:20181212T151019Z
LAST-MODIFIED:20181212T151019Z
UID:2148-1549699200-1549710000@aikmilano.it
SUMMARY:Corso Maestri e Corso Istruttori
DESCRIPTION:Quinto appuntamento con i corsi maestri e istruttori (solo Associati ammessi)
URL:https://aikmilano.it/evento/corso-maestri-e-corso-istruttori-2/
CATEGORIES:Pubblico
ATTACH;FMTTYPE=:
END:VEVENT
BEGIN:VEVENT
DTSTART;TZID=Europe/Rome:20190208T173000
DTEND;TZID=Europe/Rome:20190208T183000
DTSTAMP:20260421T211242
CREATED:20181221T120422Z
LAST-MODIFIED:20181221T120422Z
UID:2491-1549647000-1549650600@aikmilano.it
SUMMARY:Palestra non disponibile
DESCRIPTION:
URL:https://aikmilano.it/evento/palestra-non-disponibile-155/
CATEGORIES:Attività Varie
END:VEVENT
BEGIN:VEVENT
DTSTART;TZID=Europe/Rome:20190207T180000
DTEND;TZID=Europe/Rome:20190207T220000
DTSTAMP:20260421T211242
CREATED:20181217T234642Z
LAST-MODIFIED:20181217T234642Z
UID:2362-1549562400-1549576800@aikmilano.it
SUMMARY:Palestra non disponibile
DESCRIPTION:
URL:https://aikmilano.it/evento/palestra-non-disponibile-113/
CATEGORIES:Attività Varie
END:VEVENT
BEGIN:VEVENT
DTSTART;TZID=Europe/Rome:20190206T190000
DTEND;TZID=Europe/Rome:20190206T210000
DTSTAMP:20260421T211242
CREATED:20181221T115902Z
LAST-MODIFIED:20181221T115902Z
UID:2481-1549479600-1549486800@aikmilano.it
SUMMARY:Palestra non disponibile
DESCRIPTION:
URL:https://aikmilano.it/evento/palestra-non-disponibile-151/
CATEGORIES:Attività Varie
END:VEVENT
BEGIN:VEVENT
DTSTART;TZID=Europe/Rome:20190206T173000
DTEND;TZID=Europe/Rome:20190206T190000
DTSTAMP:20260421T211242
CREATED:20181221T120030Z
LAST-MODIFIED:20181221T120030Z
UID:2487-1549474200-1549479600@aikmilano.it
SUMMARY:Palestra non disponibile
DESCRIPTION:
URL:https://aikmilano.it/evento/palestra-non-disponibile-154/
CATEGORIES:Attività Varie
END:VEVENT
BEGIN:VEVENT
DTSTART;TZID=Europe/Rome:20190205T190000
DTEND;TZID=Europe/Rome:20190205T210000
DTSTAMP:20260421T211242
CREATED:20181221T115957Z
LAST-MODIFIED:20181221T115957Z
UID:2485-1549393200-1549400400@aikmilano.it
SUMMARY:Palestra non disponibile
DESCRIPTION:
URL:https://aikmilano.it/evento/palestra-non-disponibile-153/
CATEGORIES:Attività Varie
END:VEVENT
BEGIN:VEVENT
DTSTART;TZID=Europe/Rome:20190205T180000
DTEND;TZID=Europe/Rome:20190205T190000
DTSTAMP:20260421T211242
CREATED:20181221T115928Z
LAST-MODIFIED:20181221T115928Z
UID:2483-1549389600-1549393200@aikmilano.it
SUMMARY:Palestra non disponibile
DESCRIPTION:
URL:https://aikmilano.it/evento/palestra-non-disponibile-152/
CATEGORIES:Attività Varie
END:VEVENT
BEGIN:VEVENT
DTSTART;TZID=Europe/Rome:20190204T190000
DTEND;TZID=Europe/Rome:20190204T210000
DTSTAMP:20260421T211242
CREATED:20181221T115802Z
LAST-MODIFIED:20181221T115802Z
UID:2479-1549306800-1549314000@aikmilano.it
SUMMARY:Palestra non disponibile
DESCRIPTION:
URL:https://aikmilano.it/evento/palestra-non-disponibile-150/
CATEGORIES:Attività Varie
END:VEVENT
BEGIN:VEVENT
DTSTART;TZID=Europe/Rome:20190204T173000
DTEND;TZID=Europe/Rome:20190204T190000
DTSTAMP:20260421T211242
CREATED:20181221T115729Z
LAST-MODIFIED:20181221T115729Z
UID:2477-1549301400-1549306800@aikmilano.it
SUMMARY:Palestra non disponibile
DESCRIPTION:
URL:https://aikmilano.it/evento/palestra-non-disponibile-149/
CATEGORIES:Attività Varie
END:VEVENT
BEGIN:VEVENT
DTSTART;TZID=Europe/Rome:20190202T110000
DTEND;TZID=Europe/Rome:20190202T123000
DTSTAMP:20260421T211242
CREATED:20181212T163942Z
LAST-MODIFIED:20181212T163942Z
UID:2210-1549105200-1549110600@aikmilano.it
SUMMARY:Palestra non disponibile
DESCRIPTION:
URL:https://aikmilano.it/evento/palestra-non-disponibile-84/
CATEGORIES:Attività Varie
END:VEVENT
BEGIN:VEVENT
DTSTART;TZID=Europe/Rome:20190202T080000
DTEND;TZID=Europe/Rome:20190202T110000
DTSTAMP:20260421T211242
CREATED:20181212T163914Z
LAST-MODIFIED:20181212T163914Z
UID:2208-1549094400-1549105200@aikmilano.it
SUMMARY:Palestra non disponibile
DESCRIPTION:
URL:https://aikmilano.it/evento/palestra-non-disponibile-83/
CATEGORIES:Attività Varie
END:VEVENT
BEGIN:VEVENT
DTSTART;TZID=Europe/Rome:20190201T190000
DTEND;TZID=Europe/Rome:20190201T210000
DTSTAMP:20260421T211242
CREATED:20190131T225128Z
LAST-MODIFIED:20190131T225128Z
UID:2976-1549047600-1549054800@aikmilano.it
SUMMARY:Palestra non disponibile
DESCRIPTION:
URL:https://aikmilano.it/evento/palestra-non-disponibile-59/
CATEGORIES:Soci
END:VEVENT
BEGIN:VEVENT
DTSTART;TZID=Europe/Rome:20190201T173000
DTEND;TZID=Europe/Rome:20190201T183000
DTSTAMP:20260421T211242
CREATED:20181221T115430Z
LAST-MODIFIED:20181221T115430Z
UID:2475-1549042200-1549045800@aikmilano.it
SUMMARY:Palestra non disponibile
DESCRIPTION:
URL:https://aikmilano.it/evento/palestra-non-disponibile-148/
CATEGORIES:Attività Varie
END:VEVENT
BEGIN:VEVENT
DTSTART;TZID=Europe/Rome:20190131T190000
DTEND;TZID=Europe/Rome:20190131T210000
DTSTAMP:20260421T211242
CREATED:20181221T115355Z
LAST-MODIFIED:20181221T115355Z
UID:2473-1548961200-1548968400@aikmilano.it
SUMMARY:Palestra non disponibile
DESCRIPTION:
URL:https://aikmilano.it/evento/palestra-non-disponibile-147/
CATEGORIES:Attività Varie
END:VEVENT
BEGIN:VEVENT
DTSTART;TZID=Europe/Rome:20190131T180000
DTEND;TZID=Europe/Rome:20190131T190000
DTSTAMP:20260421T211242
CREATED:20181221T115328Z
LAST-MODIFIED:20181221T115328Z
UID:2471-1548957600-1548961200@aikmilano.it
SUMMARY:Palestra non disponibile
DESCRIPTION:
URL:https://aikmilano.it/evento/palestra-non-disponibile-146/
CATEGORIES:Attività Varie
END:VEVENT
BEGIN:VEVENT
DTSTART;TZID=Europe/Rome:20190130T190000
DTEND;TZID=Europe/Rome:20190130T210000
DTSTAMP:20260421T211242
CREATED:20181221T115134Z
LAST-MODIFIED:20181221T115134Z
UID:2469-1548874800-1548882000@aikmilano.it
SUMMARY:Palestra non disponibile
DESCRIPTION:
URL:https://aikmilano.it/evento/palestra-non-disponibile-145/
CATEGORIES:Attività Varie
END:VEVENT
BEGIN:VEVENT
DTSTART;TZID=Europe/Rome:20190130T173000
DTEND;TZID=Europe/Rome:20190130T190000
DTSTAMP:20260421T211242
CREATED:20181221T114616Z
LAST-MODIFIED:20181221T114616Z
UID:2461-1548869400-1548874800@aikmilano.it
SUMMARY:Palestra non disponibile
DESCRIPTION:
URL:https://aikmilano.it/evento/palestra-non-disponibile-142/
CATEGORIES:Attività Varie
END:VEVENT
BEGIN:VEVENT
DTSTART;TZID=Europe/Rome:20190129T190000
DTEND;TZID=Europe/Rome:20190129T210000
DTSTAMP:20260421T211242
CREATED:20181221T114536Z
LAST-MODIFIED:20181221T114536Z
UID:2459-1548788400-1548795600@aikmilano.it
SUMMARY:Palestra non disponibile
DESCRIPTION:
URL:https://aikmilano.it/evento/palestra-non-disponibile-141/
CATEGORIES:Attività Varie
END:VEVENT
BEGIN:VEVENT
DTSTART;TZID=Europe/Rome:20190129T180000
DTEND;TZID=Europe/Rome:20190129T190000
DTSTAMP:20260421T211242
CREATED:20181221T114507Z
LAST-MODIFIED:20181221T114507Z
UID:2457-1548784800-1548788400@aikmilano.it
SUMMARY:Palestra non disponibile
DESCRIPTION:
URL:https://aikmilano.it/evento/palestra-non-disponibile-140/
CATEGORIES:Attività Varie
END:VEVENT
BEGIN:VEVENT
DTSTART;TZID=Europe/Rome:20190128T190000
DTEND;TZID=Europe/Rome:20190128T210000
DTSTAMP:20260421T211242
CREATED:20181221T114951Z
LAST-MODIFIED:20181221T114951Z
UID:2467-1548702000-1548709200@aikmilano.it
SUMMARY:Palestra non disponibile
DESCRIPTION:
URL:https://aikmilano.it/evento/palestra-non-disponibile-144/
CATEGORIES:Attività Varie
END:VEVENT
BEGIN:VEVENT
DTSTART;TZID=Europe/Rome:20190128T173000
DTEND;TZID=Europe/Rome:20190128T190000
DTSTAMP:20260421T211242
CREATED:20181221T114919Z
LAST-MODIFIED:20181221T114919Z
UID:2465-1548696600-1548702000@aikmilano.it
SUMMARY:Palestra non disponibile
DESCRIPTION:
URL:https://aikmilano.it/evento/palestra-non-disponibile-143/
CATEGORIES:Attività Varie
END:VEVENT
BEGIN:VEVENT
DTSTART;TZID=Europe/Rome:20190126T110000
DTEND;TZID=Europe/Rome:20190126T123000
DTSTAMP:20260421T211242
CREATED:20181212T162118Z
LAST-MODIFIED:20181212T162118Z
UID:2196-1548500400-1548505800@aikmilano.it
SUMMARY:Palestra non disponibile
DESCRIPTION:
URL:https://aikmilano.it/evento/palestra-non-disponibile-77/
CATEGORIES:Attività Varie
END:VEVENT
BEGIN:VEVENT
DTSTART;TZID=Europe/Rome:20190125T190000
DTEND;TZID=Europe/Rome:20190125T210000
DTSTAMP:20260421T211242
CREATED:20181218T000018Z
LAST-MODIFIED:20181218T000018Z
UID:2380-1548442800-1548450000@aikmilano.it
SUMMARY:Palestra non disponibile
DESCRIPTION:
URL:https://aikmilano.it/evento/palestra-non-disponibile-122/
CATEGORIES:Attività Varie
END:VEVENT
BEGIN:VEVENT
DTSTART;TZID=Europe/Rome:20190125T190000
DTEND;TZID=Europe/Rome:20190125T210000
DTSTAMP:20260421T211242
CREATED:20181119T005331Z
LAST-MODIFIED:20181119T005331Z
UID:1721-1548442800-1548450000@aikmilano.it
SUMMARY:Approfondimento su Pu Fa e Cho Fa
DESCRIPTION:Lezione di approfondimento su Pu Fa e Cho Fa (solo per gli Associati)
URL:https://aikmilano.it/evento/approfondimento-su-pu-fa-e-cho-fa/
CATEGORIES:Pubblico
ATTACH;FMTTYPE=:
END:VEVENT
BEGIN:VEVENT
DTSTART;TZID=Europe/Rome:20190125T173000
DTEND;TZID=Europe/Rome:20190125T183000
DTSTAMP:20260421T211242
CREATED:20181221T114301Z
LAST-MODIFIED:20181221T114301Z
UID:2451-1548437400-1548441000@aikmilano.it
SUMMARY:Palestra non disponibile
DESCRIPTION:
URL:https://aikmilano.it/evento/palestra-non-disponibile-137/
CATEGORIES:Attività Varie
END:VEVENT
BEGIN:VEVENT
DTSTART;TZID=Europe/Rome:20190124T190000
DTEND;TZID=Europe/Rome:20190124T210000
DTSTAMP:20260421T211242
CREATED:20181221T114221Z
LAST-MODIFIED:20181221T114221Z
UID:2449-1548356400-1548363600@aikmilano.it
SUMMARY:Palestra non disponibile
DESCRIPTION:
URL:https://aikmilano.it/evento/palestra-non-disponibile-136/
CATEGORIES:Attività Varie
END:VEVENT
BEGIN:VEVENT
DTSTART;TZID=Europe/Rome:20190124T180000
DTEND;TZID=Europe/Rome:20190124T190000
DTSTAMP:20260421T211242
CREATED:20181221T114151Z
LAST-MODIFIED:20181221T114151Z
UID:2447-1548352800-1548356400@aikmilano.it
SUMMARY:Palestra non disponibile
DESCRIPTION:
URL:https://aikmilano.it/evento/palestra-non-disponibile-135/
CATEGORIES:Attività Varie
END:VEVENT
END:VCALENDAR