BEGIN:VCALENDAR
VERSION:2.0
PRODID:-//Associazione Italiana Kung Fu - ECPv6.15.20//NONSGML v1.0//EN
CALSCALE:GREGORIAN
METHOD:PUBLISH
X-ORIGINAL-URL:https://aikmilano.it
X-WR-CALDESC:Eventi per Associazione Italiana Kung Fu
REFRESH-INTERVAL;VALUE=DURATION:PT1H
X-Robots-Tag:noindex
X-PUBLISHED-TTL:PT1H
BEGIN:VTIMEZONE
TZID:Europe/Rome
BEGIN:DAYLIGHT
TZOFFSETFROM:+0100
TZOFFSETTO:+0200
TZNAME:CEST
DTSTART:20170326T010000
END:DAYLIGHT
BEGIN:STANDARD
TZOFFSETFROM:+0200
TZOFFSETTO:+0100
TZNAME:CET
DTSTART:20171029T010000
END:STANDARD
BEGIN:DAYLIGHT
TZOFFSETFROM:+0100
TZOFFSETTO:+0200
TZNAME:CEST
DTSTART:20180325T010000
END:DAYLIGHT
BEGIN:STANDARD
TZOFFSETFROM:+0200
TZOFFSETTO:+0100
TZNAME:CET
DTSTART:20181028T010000
END:STANDARD
BEGIN:DAYLIGHT
TZOFFSETFROM:+0100
TZOFFSETTO:+0200
TZNAME:CEST
DTSTART:20190331T010000
END:DAYLIGHT
BEGIN:STANDARD
TZOFFSETFROM:+0200
TZOFFSETTO:+0100
TZNAME:CET
DTSTART:20191027T010000
END:STANDARD
BEGIN:DAYLIGHT
TZOFFSETFROM:+0100
TZOFFSETTO:+0200
TZNAME:CEST
DTSTART:20200329T010000
END:DAYLIGHT
BEGIN:STANDARD
TZOFFSETFROM:+0200
TZOFFSETTO:+0100
TZNAME:CET
DTSTART:20201025T010000
END:STANDARD
END:VTIMEZONE
BEGIN:VEVENT
DTSTART;VALUE=DATE:20190118
DTEND;VALUE=DATE:20190121
DTSTAMP:20260422T013113
CREATED:20181124T223405Z
LAST-MODIFIED:20181124T223405Z
UID:1811-1547769600-1548028799@aikmilano.it
SUMMARY:Stage invernale Tartano 2019
DESCRIPTION:Stage invernale a Tartano (So)
URL:https://aikmilano.it/evento/stage-invernale-tartano-2019/
CATEGORIES:Pubblico
ATTACH;FMTTYPE=:
END:VEVENT
BEGIN:VEVENT
DTSTART;TZID=Europe/Rome:20190116T190000
DTEND;TZID=Europe/Rome:20190116T210000
DTSTAMP:20260422T013113
CREATED:20181218T000549Z
LAST-MODIFIED:20181218T000549Z
UID:2392-1547665200-1547672400@aikmilano.it
SUMMARY:Palestra non disponibile
DESCRIPTION:
URL:https://aikmilano.it/evento/palestra-non-disponibile-128/
CATEGORIES:Attività Varie
END:VEVENT
BEGIN:VEVENT
DTSTART;TZID=Europe/Rome:20190116T173000
DTEND;TZID=Europe/Rome:20190116T190000
DTSTAMP:20260422T013113
CREATED:20181218T000511Z
LAST-MODIFIED:20181218T000511Z
UID:2390-1547659800-1547665200@aikmilano.it
SUMMARY:Palestra non disponibile
DESCRIPTION:
URL:https://aikmilano.it/evento/palestra-non-disponibile-127/
CATEGORIES:Attività Varie
END:VEVENT
BEGIN:VEVENT
DTSTART;TZID=Europe/Rome:20190115T190000
DTEND;TZID=Europe/Rome:20190115T210000
DTSTAMP:20260422T013113
CREATED:20181218T000420Z
LAST-MODIFIED:20181218T000420Z
UID:2388-1547578800-1547586000@aikmilano.it
SUMMARY:Palestra non disponibile
DESCRIPTION:
URL:https://aikmilano.it/evento/palestra-non-disponibile-126/
CATEGORIES:Attività Varie
END:VEVENT
BEGIN:VEVENT
DTSTART;TZID=Europe/Rome:20190115T180000
DTEND;TZID=Europe/Rome:20190115T190000
DTSTAMP:20260422T013113
CREATED:20181218T000342Z
LAST-MODIFIED:20181218T000342Z
UID:2386-1547575200-1547578800@aikmilano.it
SUMMARY:Palestra non disponibile
DESCRIPTION:
URL:https://aikmilano.it/evento/palestra-non-disponibile-125/
CATEGORIES:Attività Varie
END:VEVENT
BEGIN:VEVENT
DTSTART;TZID=Europe/Rome:20190114T190000
DTEND;TZID=Europe/Rome:20190114T210000
DTSTAMP:20260422T013113
CREATED:20181218T000301Z
LAST-MODIFIED:20181218T000301Z
UID:2384-1547492400-1547499600@aikmilano.it
SUMMARY:Palestra non disponibile
DESCRIPTION:
URL:https://aikmilano.it/evento/palestra-non-disponibile-124/
CATEGORIES:Attività Varie
END:VEVENT
BEGIN:VEVENT
DTSTART;TZID=Europe/Rome:20190114T173000
DTEND;TZID=Europe/Rome:20190114T190000
DTSTAMP:20260422T013113
CREATED:20181218T000228Z
LAST-MODIFIED:20181218T000228Z
UID:2382-1547487000-1547492400@aikmilano.it
SUMMARY:Palestra non disponibile
DESCRIPTION:
URL:https://aikmilano.it/evento/palestra-non-disponibile-123/
CATEGORIES:Attività Varie
END:VEVENT
BEGIN:VEVENT
DTSTART;TZID=Europe/Rome:20190112T143000
DTEND;TZID=Europe/Rome:20190112T163000
DTSTAMP:20260422T013113
CREATED:20181212T141441Z
LAST-MODIFIED:20181212T141441Z
UID:2124-1547303400-1547310600@aikmilano.it
SUMMARY:Tecniche di Kung Fu per l’autodifesa nella vita quotidiana
DESCRIPTION:Primo appuntamento con il corso Tecniche di Kung Fu nella vita quotidiana
URL:https://aikmilano.it/evento/tecniche-di-kung-fu-per-lautodifesa-nella-vita-quotidiana/
CATEGORIES:Pubblico
ATTACH;FMTTYPE=:
END:VEVENT
BEGIN:VEVENT
DTSTART;TZID=Europe/Rome:20190112T110000
DTEND;TZID=Europe/Rome:20190112T123000
DTSTAMP:20260422T013113
CREATED:20181212T160739Z
LAST-MODIFIED:20181212T160739Z
UID:2176-1547290800-1547296200@aikmilano.it
SUMMARY:Palestra non disponibile
DESCRIPTION:
URL:https://aikmilano.it/evento/palestra-non-disponibile-67/
CATEGORIES:Attività Varie
END:VEVENT
BEGIN:VEVENT
DTSTART;TZID=Europe/Rome:20190112T093000
DTEND;TZID=Europe/Rome:20190112T110000
DTSTAMP:20260422T013113
CREATED:20181212T160839Z
LAST-MODIFIED:20181212T160839Z
UID:2178-1547285400-1547290800@aikmilano.it
SUMMARY:Palestra non disponibile
DESCRIPTION:
URL:https://aikmilano.it/evento/palestra-non-disponibile-68/
CATEGORIES:Attività Varie
END:VEVENT
BEGIN:VEVENT
DTSTART;TZID=Europe/Rome:20190112T080000
DTEND;TZID=Europe/Rome:20190112T110000
DTSTAMP:20260422T013113
CREATED:20181212T150759Z
LAST-MODIFIED:20181212T150759Z
UID:2145-1547280000-1547290800@aikmilano.it
SUMMARY:Corso Maestri e Corso Istruttori
DESCRIPTION:Quarto appuntamento con i corsi maestri e istruttori (solo Associati ammessi)
URL:https://aikmilano.it/evento/corso-maestri-e-corso-istruttori/
CATEGORIES:Pubblico
ATTACH;FMTTYPE=:
END:VEVENT
BEGIN:VEVENT
DTSTART;TZID=Europe/Rome:20190112T080000
DTEND;TZID=Europe/Rome:20190112T093000
DTSTAMP:20260422T013113
CREATED:20181212T160649Z
LAST-MODIFIED:20181212T160649Z
UID:2174-1547280000-1547285400@aikmilano.it
SUMMARY:Palestra non disponibile
DESCRIPTION:
URL:https://aikmilano.it/evento/palestra-non-disponibile-66/
CATEGORIES:Attività Varie
END:VEVENT
BEGIN:VEVENT
DTSTART;TZID=Europe/Rome:20190111T173000
DTEND;TZID=Europe/Rome:20190111T183000
DTSTAMP:20260422T013113
CREATED:20181221T111002Z
LAST-MODIFIED:20181221T111002Z
UID:2433-1547227800-1547231400@aikmilano.it
SUMMARY:Palestra non disponibile
DESCRIPTION:
URL:https://aikmilano.it/evento/palestra-non-disponibile-81/
CATEGORIES:Attività Varie
END:VEVENT
BEGIN:VEVENT
DTSTART;TZID=Europe/Rome:20190110T190000
DTEND;TZID=Europe/Rome:20190110T210000
DTSTAMP:20260422T013113
CREATED:20181217T235817Z
LAST-MODIFIED:20181217T235817Z
UID:2378-1547146800-1547154000@aikmilano.it
SUMMARY:Palestra non disponibile
DESCRIPTION:
URL:https://aikmilano.it/evento/palestra-non-disponibile-121/
CATEGORIES:Attività Varie
END:VEVENT
BEGIN:VEVENT
DTSTART;TZID=Europe/Rome:20190110T180000
DTEND;TZID=Europe/Rome:20190110T190000
DTSTAMP:20260422T013113
CREATED:20181217T235746Z
LAST-MODIFIED:20181217T235746Z
UID:2376-1547143200-1547146800@aikmilano.it
SUMMARY:Palestra non disponibile
DESCRIPTION:
URL:https://aikmilano.it/evento/palestra-non-disponibile-120/
CATEGORIES:Attività Varie
END:VEVENT
BEGIN:VEVENT
DTSTART;TZID=Europe/Rome:20190109T190000
DTEND;TZID=Europe/Rome:20190109T210000
DTSTAMP:20260422T013113
CREATED:20181217T235700Z
LAST-MODIFIED:20181217T235700Z
UID:2374-1547060400-1547067600@aikmilano.it
SUMMARY:Palestra non disponibile
DESCRIPTION:
URL:https://aikmilano.it/evento/palestra-non-disponibile-119/
CATEGORIES:Attività Varie
END:VEVENT
BEGIN:VEVENT
DTSTART;TZID=Europe/Rome:20190109T173000
DTEND;TZID=Europe/Rome:20190109T190000
DTSTAMP:20260422T013113
CREATED:20181217T235626Z
LAST-MODIFIED:20181217T235626Z
UID:2372-1547055000-1547060400@aikmilano.it
SUMMARY:Palestra non disponibile
DESCRIPTION:
URL:https://aikmilano.it/evento/palestra-non-disponibile-118/
CATEGORIES:Attività Varie
END:VEVENT
BEGIN:VEVENT
DTSTART;TZID=Europe/Rome:20190108T190000
DTEND;TZID=Europe/Rome:20190108T210000
DTSTAMP:20260422T013113
CREATED:20181217T235532Z
LAST-MODIFIED:20181217T235532Z
UID:2370-1546974000-1546981200@aikmilano.it
SUMMARY:Palestra non disponibile
DESCRIPTION:
URL:https://aikmilano.it/evento/palestra-non-disponibile-117/
CATEGORIES:Attività Varie
END:VEVENT
BEGIN:VEVENT
DTSTART;TZID=Europe/Rome:20190108T180000
DTEND;TZID=Europe/Rome:20190108T190000
DTSTAMP:20260422T013113
CREATED:20181217T235454Z
LAST-MODIFIED:20181217T235454Z
UID:2368-1546970400-1546974000@aikmilano.it
SUMMARY:Palestra non disponibile
DESCRIPTION:
URL:https://aikmilano.it/evento/palestra-non-disponibile-116/
CATEGORIES:Attività Varie
END:VEVENT
BEGIN:VEVENT
DTSTART;TZID=Europe/Rome:20190107T190000
DTEND;TZID=Europe/Rome:20190107T210000
DTSTAMP:20260422T013113
CREATED:20181217T235403Z
LAST-MODIFIED:20181217T235403Z
UID:2366-1546887600-1546894800@aikmilano.it
SUMMARY:Palestra non disponibile
DESCRIPTION:
URL:https://aikmilano.it/evento/palestra-non-disponibile-115/
CATEGORIES:Attività Varie
END:VEVENT
BEGIN:VEVENT
DTSTART;TZID=Europe/Rome:20190107T173000
DTEND;TZID=Europe/Rome:20190107T190000
DTSTAMP:20260422T013113
CREATED:20181217T235321Z
LAST-MODIFIED:20181217T235321Z
UID:2364-1546882200-1546887600@aikmilano.it
SUMMARY:Palestra non disponibile
DESCRIPTION:
URL:https://aikmilano.it/evento/palestra-non-disponibile-114/
CATEGORIES:Attività Varie
END:VEVENT
BEGIN:VEVENT
DTSTART;TZID=Europe/Rome:20190105T100000
DTEND;TZID=Europe/Rome:20190105T120000
DTSTAMP:20260422T013113
CREATED:20190103T213224Z
LAST-MODIFIED:20190103T213224Z
UID:2889-1546682400-1546689600@aikmilano.it
SUMMARY:Palestra non disponibile
DESCRIPTION:
URL:https://aikmilano.it/evento/palestra-non-disponibile-335/
CATEGORIES:Attività Varie
END:VEVENT
BEGIN:VEVENT
DTSTART;TZID=Europe/Rome:20190104T190000
DTEND;TZID=Europe/Rome:20190104T203000
DTSTAMP:20260422T013113
CREATED:20190104T090732Z
LAST-MODIFIED:20190104T090732Z
UID:2891-1546628400-1546633800@aikmilano.it
SUMMARY:Palestra non disponibile
DESCRIPTION:
URL:https://aikmilano.it/evento/palestra-non-disponibile-336/
CATEGORIES:Attività Varie
END:VEVENT
BEGIN:VEVENT
DTSTART;TZID=Europe/Rome:20190103T180000
DTEND;TZID=Europe/Rome:20190103T200000
DTSTAMP:20260422T013113
CREATED:20190103T083143Z
LAST-MODIFIED:20190103T083143Z
UID:2882-1546538400-1546545600@aikmilano.it
SUMMARY:Palestra non disponibile
DESCRIPTION:
URL:https://aikmilano.it/evento/palestra-non-disponibile-334/
CATEGORIES:Attività Varie
END:VEVENT
BEGIN:VEVENT
DTSTART;TZID=Europe/Rome:20190102T100000
DTEND;TZID=Europe/Rome:20190102T120000
DTSTAMP:20260422T013113
CREATED:20181230T162839Z
LAST-MODIFIED:20181230T162839Z
UID:2877-1546423200-1546430400@aikmilano.it
SUMMARY:Palestra non disponibile
DESCRIPTION:
URL:https://aikmilano.it/evento/palestra-non-disponibile-333/
CATEGORIES:Attività Varie
END:VEVENT
BEGIN:VEVENT
DTSTART;TZID=Europe/Rome:20181228T103000
DTEND;TZID=Europe/Rome:20181228T123000
DTSTAMP:20260422T013113
CREATED:20181228T092843Z
LAST-MODIFIED:20181228T092843Z
UID:2875-1545993000-1546000200@aikmilano.it
SUMMARY:Palestra non disponibile
DESCRIPTION:
URL:https://aikmilano.it/evento/palestra-non-disponibile-332/
CATEGORIES:Attività Varie
END:VEVENT
BEGIN:VEVENT
DTSTART;TZID=Europe/Rome:20181227T180000
DTEND;TZID=Europe/Rome:20181227T200000
DTSTAMP:20260422T013113
CREATED:20181227T133118Z
LAST-MODIFIED:20181227T133118Z
UID:2871-1545933600-1545940800@aikmilano.it
SUMMARY:Palestra non disponibile
DESCRIPTION:
URL:https://aikmilano.it/evento/palestra-non-disponibile-331/
CATEGORIES:Attività Varie
END:VEVENT
BEGIN:VEVENT
DTSTART;TZID=Europe/Rome:20181226T190000
DTEND;TZID=Europe/Rome:20181226T210000
DTSTAMP:20260422T013113
CREATED:20181226T101502Z
LAST-MODIFIED:20181226T101502Z
UID:2658-1545850800-1545858000@aikmilano.it
SUMMARY:Palestra non disponibile
DESCRIPTION:
URL:https://aikmilano.it/evento/palestra-non-disponibile-227/
CATEGORIES:Attività Varie
END:VEVENT
BEGIN:VEVENT
DTSTART;TZID=Europe/Rome:20181226T173000
DTEND;TZID=Europe/Rome:20181226T183000
DTSTAMP:20260422T013113
CREATED:20181226T001308Z
LAST-MODIFIED:20181226T001308Z
UID:2572-1545845400-1545849000@aikmilano.it
SUMMARY:Palestra non disponibile
DESCRIPTION:
URL:https://aikmilano.it/evento/palestra-non-disponibile-185/
CATEGORIES:Attività Varie
END:VEVENT
BEGIN:VEVENT
DTSTART;TZID=Europe/Rome:20181222T180000
DTEND;TZID=Europe/Rome:20181222T190000
DTSTAMP:20260422T013113
CREATED:20181222T000052Z
LAST-MODIFIED:20181222T000052Z
UID:2508-1545501600-1545505200@aikmilano.it
SUMMARY:Palestra non disponibile
DESCRIPTION:
URL:https://aikmilano.it/evento/palestra-non-disponibile-161/
CATEGORIES:Attività Varie
END:VEVENT
END:VCALENDAR