BEGIN:VCALENDAR
VERSION:2.0
PRODID:-//Associazione Italiana Kung Fu - ECPv6.15.20//NONSGML v1.0//EN
CALSCALE:GREGORIAN
METHOD:PUBLISH
X-WR-CALNAME:Associazione Italiana Kung Fu
X-ORIGINAL-URL:https://aikmilano.it
X-WR-CALDESC:Eventi per Associazione Italiana Kung Fu
REFRESH-INTERVAL;VALUE=DURATION:PT1H
X-Robots-Tag:noindex
X-PUBLISHED-TTL:PT1H
BEGIN:VTIMEZONE
TZID:Europe/Rome
BEGIN:DAYLIGHT
TZOFFSETFROM:+0100
TZOFFSETTO:+0200
TZNAME:CEST
DTSTART:20170326T010000
END:DAYLIGHT
BEGIN:STANDARD
TZOFFSETFROM:+0200
TZOFFSETTO:+0100
TZNAME:CET
DTSTART:20171029T010000
END:STANDARD
BEGIN:DAYLIGHT
TZOFFSETFROM:+0100
TZOFFSETTO:+0200
TZNAME:CEST
DTSTART:20180325T010000
END:DAYLIGHT
BEGIN:STANDARD
TZOFFSETFROM:+0200
TZOFFSETTO:+0100
TZNAME:CET
DTSTART:20181028T010000
END:STANDARD
BEGIN:DAYLIGHT
TZOFFSETFROM:+0100
TZOFFSETTO:+0200
TZNAME:CEST
DTSTART:20190331T010000
END:DAYLIGHT
BEGIN:STANDARD
TZOFFSETFROM:+0200
TZOFFSETTO:+0100
TZNAME:CET
DTSTART:20191027T010000
END:STANDARD
BEGIN:DAYLIGHT
TZOFFSETFROM:+0100
TZOFFSETTO:+0200
TZNAME:CEST
DTSTART:20200329T010000
END:DAYLIGHT
BEGIN:STANDARD
TZOFFSETFROM:+0200
TZOFFSETTO:+0100
TZNAME:CET
DTSTART:20201025T010000
END:STANDARD
END:VTIMEZONE
BEGIN:VEVENT
DTSTART;TZID=Europe/Rome:20190102T100000
DTEND;TZID=Europe/Rome:20190102T120000
DTSTAMP:20260422T041632
CREATED:20181230T162839Z
LAST-MODIFIED:20181230T162839Z
UID:2877-1546423200-1546430400@aikmilano.it
SUMMARY:Palestra non disponibile
DESCRIPTION:
URL:https://aikmilano.it/evento/palestra-non-disponibile-333/
CATEGORIES:Attività Varie
END:VEVENT
BEGIN:VEVENT
DTSTART;TZID=Europe/Rome:20181228T103000
DTEND;TZID=Europe/Rome:20181228T123000
DTSTAMP:20260422T041632
CREATED:20181228T092843Z
LAST-MODIFIED:20181228T092843Z
UID:2875-1545993000-1546000200@aikmilano.it
SUMMARY:Palestra non disponibile
DESCRIPTION:
URL:https://aikmilano.it/evento/palestra-non-disponibile-332/
CATEGORIES:Attività Varie
END:VEVENT
BEGIN:VEVENT
DTSTART;TZID=Europe/Rome:20181227T180000
DTEND;TZID=Europe/Rome:20181227T200000
DTSTAMP:20260422T041632
CREATED:20181227T133118Z
LAST-MODIFIED:20181227T133118Z
UID:2871-1545933600-1545940800@aikmilano.it
SUMMARY:Palestra non disponibile
DESCRIPTION:
URL:https://aikmilano.it/evento/palestra-non-disponibile-331/
CATEGORIES:Attività Varie
END:VEVENT
BEGIN:VEVENT
DTSTART;TZID=Europe/Rome:20181226T190000
DTEND;TZID=Europe/Rome:20181226T210000
DTSTAMP:20260422T041632
CREATED:20181226T101502Z
LAST-MODIFIED:20181226T101502Z
UID:2658-1545850800-1545858000@aikmilano.it
SUMMARY:Palestra non disponibile
DESCRIPTION:
URL:https://aikmilano.it/evento/palestra-non-disponibile-227/
CATEGORIES:Attività Varie
END:VEVENT
BEGIN:VEVENT
DTSTART;TZID=Europe/Rome:20181226T173000
DTEND;TZID=Europe/Rome:20181226T183000
DTSTAMP:20260422T041632
CREATED:20181226T001308Z
LAST-MODIFIED:20181226T001308Z
UID:2572-1545845400-1545849000@aikmilano.it
SUMMARY:Palestra non disponibile
DESCRIPTION:
URL:https://aikmilano.it/evento/palestra-non-disponibile-185/
CATEGORIES:Attività Varie
END:VEVENT
BEGIN:VEVENT
DTSTART;TZID=Europe/Rome:20181222T180000
DTEND;TZID=Europe/Rome:20181222T190000
DTSTAMP:20260422T041632
CREATED:20181222T000052Z
LAST-MODIFIED:20181222T000052Z
UID:2508-1545501600-1545505200@aikmilano.it
SUMMARY:Palestra non disponibile
DESCRIPTION:
URL:https://aikmilano.it/evento/palestra-non-disponibile-161/
CATEGORIES:Attività Varie
END:VEVENT
BEGIN:VEVENT
DTSTART;TZID=Europe/Rome:20181222T110000
DTEND;TZID=Europe/Rome:20181222T123000
DTSTAMP:20260422T041632
CREATED:20181218T110235Z
LAST-MODIFIED:20181218T110235Z
UID:2418-1545476400-1545481800@aikmilano.it
SUMMARY:Palestra non disponibile
DESCRIPTION:
URL:https://aikmilano.it/evento/palestra-non-disponibile-133/
CATEGORIES:Attività Varie
END:VEVENT
BEGIN:VEVENT
DTSTART;TZID=Europe/Rome:20181222T080000
DTEND;TZID=Europe/Rome:20181222T110000
DTSTAMP:20260422T041632
CREATED:20181216T202656Z
LAST-MODIFIED:20181216T202656Z
UID:2321-1545465600-1545476400@aikmilano.it
SUMMARY:Palestra non disponibile
DESCRIPTION:
URL:https://aikmilano.it/evento/palestra-non-disponibile-112/
CATEGORIES:Attività Varie
END:VEVENT
BEGIN:VEVENT
DTSTART;TZID=Europe/Rome:20181221T190000
DTEND;TZID=Europe/Rome:20181221T210000
DTSTAMP:20260422T041632
CREATED:20181221T114418Z
LAST-MODIFIED:20181221T114418Z
UID:2455-1545418800-1545426000@aikmilano.it
SUMMARY:Palestra non disponibile
DESCRIPTION:
URL:https://aikmilano.it/evento/palestra-non-disponibile-139/
CATEGORIES:Attività Varie
END:VEVENT
BEGIN:VEVENT
DTSTART;TZID=Europe/Rome:20181221T173000
DTEND;TZID=Europe/Rome:20181221T183000
DTSTAMP:20260422T041632
CREATED:20181216T202525Z
LAST-MODIFIED:20181216T202525Z
UID:2319-1545413400-1545417000@aikmilano.it
SUMMARY:Palestra non disponible
DESCRIPTION:
URL:https://aikmilano.it/evento/palestra-non-disponible/
CATEGORIES:Attività Varie
END:VEVENT
BEGIN:VEVENT
DTSTART;TZID=Europe/Rome:20181220T190000
DTEND;TZID=Europe/Rome:20181220T210000
DTSTAMP:20260422T041632
CREATED:20181126T160028Z
LAST-MODIFIED:20181126T160028Z
UID:2001-1545332400-1545339600@aikmilano.it
SUMMARY:Palestra non disponibile
DESCRIPTION:
URL:https://aikmilano.it/evento/palestra-non-disponibile-56/
CATEGORIES:Attività Varie
END:VEVENT
BEGIN:VEVENT
DTSTART;TZID=Europe/Rome:20181220T180000
DTEND;TZID=Europe/Rome:20181220T190000
DTSTAMP:20260422T041632
CREATED:20181126T155805Z
LAST-MODIFIED:20181126T155805Z
UID:1999-1545328800-1545332400@aikmilano.it
SUMMARY:Palestra non disponibile
DESCRIPTION:
URL:https://aikmilano.it/evento/palestra-non-disponibile-55/
CATEGORIES:Attività Varie
END:VEVENT
BEGIN:VEVENT
DTSTART;TZID=Europe/Rome:20181219T190000
DTEND;TZID=Europe/Rome:20181219T210000
DTSTAMP:20260422T041632
CREATED:20181126T155553Z
LAST-MODIFIED:20181126T155553Z
UID:1996-1545246000-1545253200@aikmilano.it
SUMMARY:Palestra non disponibile
DESCRIPTION:
URL:https://aikmilano.it/evento/palestra-non-disponibile-54/
CATEGORIES:Attività Varie
END:VEVENT
BEGIN:VEVENT
DTSTART;TZID=Europe/Rome:20181219T173000
DTEND;TZID=Europe/Rome:20181219T190000
DTSTAMP:20260422T041632
CREATED:20181216T202317Z
LAST-MODIFIED:20181216T202317Z
UID:2317-1545240600-1545246000@aikmilano.it
SUMMARY:Palestra non disponibile
DESCRIPTION:
URL:https://aikmilano.it/evento/palestra-non-disponibile-111/
CATEGORIES:Attività Varie
END:VEVENT
BEGIN:VEVENT
DTSTART;TZID=Europe/Rome:20181218T190000
DTEND;TZID=Europe/Rome:20181218T210000
DTSTAMP:20260422T041632
CREATED:20181126T155510Z
LAST-MODIFIED:20181126T155510Z
UID:1994-1545159600-1545166800@aikmilano.it
SUMMARY:Palestra non disponibile
DESCRIPTION:
URL:https://aikmilano.it/evento/palestra-non-disponibile-53/
CATEGORIES:Attività Varie
END:VEVENT
BEGIN:VEVENT
DTSTART;TZID=Europe/Rome:20181218T180000
DTEND;TZID=Europe/Rome:20181218T190000
DTSTAMP:20260422T041632
CREATED:20181126T155322Z
LAST-MODIFIED:20181126T155322Z
UID:1991-1545156000-1545159600@aikmilano.it
SUMMARY:Palestra non disponibile
DESCRIPTION:
URL:https://aikmilano.it/evento/palestra-non-disponibile-52/
CATEGORIES:Attività Varie
END:VEVENT
BEGIN:VEVENT
DTSTART;TZID=Europe/Rome:20181217T190000
DTEND;TZID=Europe/Rome:20181217T210000
DTSTAMP:20260422T041632
CREATED:20181126T155250Z
LAST-MODIFIED:20181126T155250Z
UID:1989-1545073200-1545080400@aikmilano.it
SUMMARY:Palestra non disponibile
DESCRIPTION:
URL:https://aikmilano.it/evento/palestra-non-disponibile-51/
CATEGORIES:Attività Varie
END:VEVENT
BEGIN:VEVENT
DTSTART;TZID=Europe/Rome:20181217T173000
DTEND;TZID=Europe/Rome:20181217T190000
DTSTAMP:20260422T041632
CREATED:20181216T202241Z
LAST-MODIFIED:20181216T202241Z
UID:2315-1545067800-1545073200@aikmilano.it
SUMMARY:Palestra non disponibile
DESCRIPTION:
URL:https://aikmilano.it/evento/palestra-non-disponibile-110/
CATEGORIES:Attività Varie
END:VEVENT
BEGIN:VEVENT
DTSTART;TZID=Europe/Rome:20181215T190000
DTEND;TZID=Europe/Rome:20181215T233000
DTSTAMP:20260422T041632
CREATED:20181128T150654Z
LAST-MODIFIED:20181128T150654Z
UID:2013-1544900400-1544916600@aikmilano.it
SUMMARY:Festa di Natale AIK
DESCRIPTION:Festa di Natale AIK
URL:https://aikmilano.it/evento/festa-di-natale-aik/
CATEGORIES:Pubblico
ATTACH;FMTTYPE=:
END:VEVENT
BEGIN:VEVENT
DTSTART;TZID=Europe/Rome:20181215T173000
DTEND;TZID=Europe/Rome:20181215T190000
DTSTAMP:20260422T041632
CREATED:20181128T150426Z
LAST-MODIFIED:20181128T150426Z
UID:2011-1544895000-1544900400@aikmilano.it
SUMMARY:Assemblea ordinaria dei Soci
DESCRIPTION:
URL:https://aikmilano.it/evento/assemblea-ordinaria-dei-soci/
CATEGORIES:Pubblico
END:VEVENT
BEGIN:VEVENT
DTSTART;TZID=Europe/Rome:20181215T080000
DTEND;TZID=Europe/Rome:20181215T110000
DTSTAMP:20260422T041632
CREATED:20181119T150439Z
LAST-MODIFIED:20181119T150439Z
UID:1784-1544860800-1544871600@aikmilano.it
SUMMARY:Corso Maestri e Corso Istruttori
DESCRIPTION:Terzo appuntamento con i corsi maestri e istruttori (solo Associati ammessi)
URL:https://aikmilano.it/evento/corso-istruttori-2/
CATEGORIES:Pubblico
ATTACH;FMTTYPE=:
END:VEVENT
BEGIN:VEVENT
DTSTART;VALUE=DATE:20181215
DTEND;VALUE=DATE:20181216
DTSTAMP:20260422T041632
CREATED:20181126T152518Z
LAST-MODIFIED:20181126T152518Z
UID:1958-1544832000-1544918399@aikmilano.it
SUMMARY:Palestra non disponibile
DESCRIPTION:
URL:https://aikmilano.it/evento/palestra-non-disponibile-38/
CATEGORIES:Attività Varie
END:VEVENT
BEGIN:VEVENT
DTSTART;TZID=Europe/Rome:20181214T190000
DTEND;TZID=Europe/Rome:20181214T210000
DTSTAMP:20260422T041632
CREATED:20181126T152244Z
LAST-MODIFIED:20181126T152244Z
UID:1953-1544814000-1544821200@aikmilano.it
SUMMARY:Palestra non disponibile
DESCRIPTION:
URL:https://aikmilano.it/evento/palestra-non-disponibile-37/
CATEGORIES:Attività Varie
END:VEVENT
BEGIN:VEVENT
DTSTART;TZID=Europe/Rome:20181214T190000
DTEND;TZID=Europe/Rome:20181214T210000
DTSTAMP:20260422T041632
CREATED:20181119T004913Z
LAST-MODIFIED:20181119T004913Z
UID:1719-1544814000-1544821200@aikmilano.it
SUMMARY:Approfondimento su Chuan Fa\, Fang Fa\, Chang Fa
DESCRIPTION:Lezione di approfondimento su Chuan Fa\, Fang Fa\, Chang Fa (solo per gli Associati)
URL:https://aikmilano.it/evento/approfondimento-su-chuan-fa-fang-fa-chang-fa/
CATEGORIES:Pubblico
ATTACH;FMTTYPE=:
END:VEVENT
BEGIN:VEVENT
DTSTART;TZID=Europe/Rome:20181213T190000
DTEND;TZID=Europe/Rome:20181213T210000
DTSTAMP:20260422T041632
CREATED:20181126T155153Z
LAST-MODIFIED:20181126T155153Z
UID:1987-1544727600-1544734800@aikmilano.it
SUMMARY:Palestra non disponibile
DESCRIPTION:
URL:https://aikmilano.it/evento/palestra-non-disponibile-50/
CATEGORIES:Attività Varie
END:VEVENT
BEGIN:VEVENT
DTSTART;TZID=Europe/Rome:20181213T180000
DTEND;TZID=Europe/Rome:20181213T190000
DTSTAMP:20260422T041632
CREATED:20181126T155107Z
LAST-MODIFIED:20181126T155107Z
UID:1985-1544724000-1544727600@aikmilano.it
SUMMARY:Palestra non disponibile
DESCRIPTION:
URL:https://aikmilano.it/evento/palestra-non-disponibile-49/
CATEGORIES:Attività Varie
END:VEVENT
BEGIN:VEVENT
DTSTART;TZID=Europe/Rome:20181212T190000
DTEND;TZID=Europe/Rome:20181212T210000
DTSTAMP:20260422T041632
CREATED:20181126T155020Z
LAST-MODIFIED:20181126T155020Z
UID:1983-1544641200-1544648400@aikmilano.it
SUMMARY:Palestra non disponibile
DESCRIPTION:
URL:https://aikmilano.it/evento/palestra-non-disponibile-48/
CATEGORIES:Attività Varie
END:VEVENT
BEGIN:VEVENT
DTSTART;TZID=Europe/Rome:20181212T110000
DTEND;TZID=Europe/Rome:20181212T123000
DTSTAMP:20260422T041632
CREATED:20181212T160034Z
LAST-MODIFIED:20181212T160034Z
UID:2167-1544612400-1544617800@aikmilano.it
SUMMARY:Palestra non disponibile
DESCRIPTION:
URL:https://aikmilano.it/evento/palestra-non-disponibile-4/
CATEGORIES:Attività Varie
END:VEVENT
BEGIN:VEVENT
DTSTART;TZID=Europe/Rome:20181212T080000
DTEND;TZID=Europe/Rome:20181212T110000
DTSTAMP:20260422T041632
CREATED:20181212T155956Z
LAST-MODIFIED:20181212T155956Z
UID:2165-1544601600-1544612400@aikmilano.it
SUMMARY:Palestra non disponibile
DESCRIPTION:
URL:https://aikmilano.it/evento/palestra-non-disponibile-3/
CATEGORIES:Attività Varie
END:VEVENT
BEGIN:VEVENT
DTSTART;TZID=Europe/Rome:20181211T190000
DTEND;TZID=Europe/Rome:20181211T210000
DTSTAMP:20260422T041632
CREATED:20181126T154934Z
LAST-MODIFIED:20181126T154934Z
UID:1980-1544554800-1544562000@aikmilano.it
SUMMARY:Palestra non disponibile
DESCRIPTION:
URL:https://aikmilano.it/evento/palestra-non-disponibile-47/
CATEGORIES:Attività Varie
END:VEVENT
END:VCALENDAR