BEGIN:VCALENDAR
VERSION:2.0
PRODID:-//Associazione Italiana Kung Fu - ECPv6.15.20//NONSGML v1.0//EN
CALSCALE:GREGORIAN
METHOD:PUBLISH
X-ORIGINAL-URL:https://aikmilano.it
X-WR-CALDESC:Eventi per Associazione Italiana Kung Fu
REFRESH-INTERVAL;VALUE=DURATION:PT1H
X-Robots-Tag:noindex
X-PUBLISHED-TTL:PT1H
BEGIN:VTIMEZONE
TZID:Europe/Rome
BEGIN:DAYLIGHT
TZOFFSETFROM:+0100
TZOFFSETTO:+0200
TZNAME:CEST
DTSTART:20170326T010000
END:DAYLIGHT
BEGIN:STANDARD
TZOFFSETFROM:+0200
TZOFFSETTO:+0100
TZNAME:CET
DTSTART:20171029T010000
END:STANDARD
BEGIN:DAYLIGHT
TZOFFSETFROM:+0100
TZOFFSETTO:+0200
TZNAME:CEST
DTSTART:20180325T010000
END:DAYLIGHT
BEGIN:STANDARD
TZOFFSETFROM:+0200
TZOFFSETTO:+0100
TZNAME:CET
DTSTART:20181028T010000
END:STANDARD
BEGIN:DAYLIGHT
TZOFFSETFROM:+0100
TZOFFSETTO:+0200
TZNAME:CEST
DTSTART:20190331T010000
END:DAYLIGHT
BEGIN:STANDARD
TZOFFSETFROM:+0200
TZOFFSETTO:+0100
TZNAME:CET
DTSTART:20191027T010000
END:STANDARD
END:VTIMEZONE
BEGIN:VEVENT
DTSTART;TZID=Europe/Rome:20181205T190000
DTEND;TZID=Europe/Rome:20181205T210000
DTSTAMP:20260422T074822
CREATED:20181126T154427Z
LAST-MODIFIED:20181126T154427Z
UID:1969-1544036400-1544043600@aikmilano.it
SUMMARY:Palestra non disponibile
DESCRIPTION:
URL:https://aikmilano.it/evento/palestra-non-disponibile-42/
CATEGORIES:Attività Varie
END:VEVENT
BEGIN:VEVENT
DTSTART;TZID=Europe/Rome:20181204T190000
DTEND;TZID=Europe/Rome:20181204T210000
DTSTAMP:20260422T074822
CREATED:20181126T154213Z
LAST-MODIFIED:20181126T154213Z
UID:1966-1543950000-1543957200@aikmilano.it
SUMMARY:Palestra non disponibile
DESCRIPTION:
URL:https://aikmilano.it/evento/palestra-non-disponibile-41/
CATEGORIES:Attività Varie
END:VEVENT
BEGIN:VEVENT
DTSTART;TZID=Europe/Rome:20181204T180000
DTEND;TZID=Europe/Rome:20181204T190000
DTSTAMP:20260422T074822
CREATED:20181126T154138Z
LAST-MODIFIED:20181126T154138Z
UID:1964-1543946400-1543950000@aikmilano.it
SUMMARY:Palestra non disponibile
DESCRIPTION:
URL:https://aikmilano.it/evento/palestra-non-disponibile-40/
CATEGORIES:Attività Varie
END:VEVENT
BEGIN:VEVENT
DTSTART;TZID=Europe/Rome:20181203T190000
DTEND;TZID=Europe/Rome:20181203T210000
DTSTAMP:20260422T074822
CREATED:20181126T154107Z
LAST-MODIFIED:20181126T154107Z
UID:1962-1543863600-1543870800@aikmilano.it
SUMMARY:Palestra non disponibile
DESCRIPTION:
URL:https://aikmilano.it/evento/palestra-non-disponibile-39/
CATEGORIES:Attività Varie
END:VEVENT
BEGIN:VEVENT
DTSTART;TZID=Europe/Rome:20181201T100000
DTEND;TZID=Europe/Rome:20181201T123000
DTSTAMP:20260422T074822
CREATED:20181119T101411Z
LAST-MODIFIED:20181119T101411Z
UID:1743-1543658400-1543667400@aikmilano.it
SUMMARY:Lezione interdisciplinare Capoeira - Kung Fu: le leve
DESCRIPTION:Le leve nella Capoeira e nel Kung Fu (su invito)
URL:https://aikmilano.it/evento/lezione-interdisciplinare-capoeira-kung-fu-le-leve/
CATEGORIES:Pubblico
ATTACH;FMTTYPE=:
END:VEVENT
BEGIN:VEVENT
DTSTART;TZID=Europe/Rome:20181130T190000
DTEND;TZID=Europe/Rome:20181130T200000
DTSTAMP:20260422T074822
CREATED:20181130T144510Z
LAST-MODIFIED:20181130T144510Z
UID:2040-1543604400-1543608000@aikmilano.it
SUMMARY:Palestra non disponibile
DESCRIPTION:
URL:https://aikmilano.it/evento/palestra-non-disponibile-31/
CATEGORIES:Attività Varie
END:VEVENT
BEGIN:VEVENT
DTSTART;TZID=Europe/Rome:20181129T190000
DTEND;TZID=Europe/Rome:20181129T210000
DTSTAMP:20260422T074822
CREATED:20181126T144315Z
LAST-MODIFIED:20181126T144315Z
UID:1905-1543518000-1543525200@aikmilano.it
SUMMARY:Palestra non disponibile
DESCRIPTION:
URL:https://aikmilano.it/evento/palestra-non-disponibile-13/
CATEGORIES:Attività Varie
END:VEVENT
BEGIN:VEVENT
DTSTART;TZID=Europe/Rome:20181129T180000
DTEND;TZID=Europe/Rome:20181129T190000
DTSTAMP:20260422T074822
CREATED:20181126T144223Z
LAST-MODIFIED:20181126T144223Z
UID:1903-1543514400-1543518000@aikmilano.it
SUMMARY:Palestra non disponibile
DESCRIPTION:
URL:https://aikmilano.it/evento/palestra-non-disponibile-12/
CATEGORIES:Attività Varie
END:VEVENT
BEGIN:VEVENT
DTSTART;TZID=Europe/Rome:20181128T190000
DTEND;TZID=Europe/Rome:20181128T210000
DTSTAMP:20260422T074822
CREATED:20181126T144522Z
LAST-MODIFIED:20181126T144522Z
UID:1907-1543431600-1543438800@aikmilano.it
SUMMARY:Palestra non disponibile
DESCRIPTION:
URL:https://aikmilano.it/evento/palestra-non-disponibile-14/
CATEGORIES:Attività Varie
END:VEVENT
BEGIN:VEVENT
DTSTART;TZID=Europe/Rome:20181127T190000
DTEND;TZID=Europe/Rome:20181127T210000
DTSTAMP:20260422T074822
CREATED:20181126T143813Z
LAST-MODIFIED:20181126T143813Z
UID:1899-1543345200-1543352400@aikmilano.it
SUMMARY:Palestra non disponibile
DESCRIPTION:
URL:https://aikmilano.it/evento/palestra-non-disponibile-10/
CATEGORIES:Attività Varie
END:VEVENT
BEGIN:VEVENT
DTSTART;TZID=Europe/Rome:20181127T180000
DTEND;TZID=Europe/Rome:20181127T190000
DTSTAMP:20260422T074822
CREATED:20181126T144138Z
LAST-MODIFIED:20181126T144138Z
UID:1901-1543341600-1543345200@aikmilano.it
SUMMARY:Palestra non disponibile
DESCRIPTION:
URL:https://aikmilano.it/evento/palestra-non-disponibile-11/
CATEGORIES:Attività Varie
END:VEVENT
BEGIN:VEVENT
DTSTART;TZID=Europe/Rome:20181126T190000
DTEND;TZID=Europe/Rome:20181126T210000
DTSTAMP:20260422T074822
CREATED:20181126T143732Z
LAST-MODIFIED:20181126T143732Z
UID:1897-1543258800-1543266000@aikmilano.it
SUMMARY:Palestra non disponibile
DESCRIPTION:
URL:https://aikmilano.it/evento/palestra-non-disponibile-9/
CATEGORIES:Attività Varie
END:VEVENT
BEGIN:VEVENT
DTSTART;TZID=Europe/Rome:20181124T143000
DTEND;TZID=Europe/Rome:20181124T173000
DTSTAMP:20260422T074822
CREATED:20181126T143317Z
LAST-MODIFIED:20181126T143317Z
UID:1893-1543069800-1543080600@aikmilano.it
SUMMARY:Palestra non disponibile
DESCRIPTION:
URL:https://aikmilano.it/evento/palestra-non-disponibile-7/
CATEGORIES:Attività Varie
END:VEVENT
BEGIN:VEVENT
DTSTART;TZID=Europe/Rome:20181124T143000
DTEND;TZID=Europe/Rome:20181124T173000
DTSTAMP:20260422T074822
CREATED:20181118T230638Z
LAST-MODIFIED:20181118T230638Z
UID:1704-1543069800-1543080600@aikmilano.it
SUMMARY:Stage Difesa Personale
DESCRIPTION:Stage Difesa Personale (per Associati ed esterni)
URL:https://aikmilano.it/evento/stage-difesa-personale/
CATEGORIES:Pubblico
ATTACH;FMTTYPE=:
END:VEVENT
BEGIN:VEVENT
DTSTART;TZID=Europe/Rome:20181124T110000
DTEND;TZID=Europe/Rome:20181124T123000
DTSTAMP:20260422T074822
CREATED:20181126T143241Z
LAST-MODIFIED:20181126T143241Z
UID:1891-1543057200-1543062600@aikmilano.it
SUMMARY:Palestra non disponibile
DESCRIPTION:
URL:https://aikmilano.it/evento/palestra-non-disponibile-6/
CATEGORIES:Attività Varie
END:VEVENT
BEGIN:VEVENT
DTSTART;TZID=Europe/Rome:20181124T080000
DTEND;TZID=Europe/Rome:20181124T110000
DTSTAMP:20260422T074822
CREATED:20181126T143138Z
LAST-MODIFIED:20181126T143138Z
UID:1889-1543046400-1543057200@aikmilano.it
SUMMARY:Palestra non disponibile
DESCRIPTION:
URL:https://aikmilano.it/evento/palestra-non-disponibile-5/
CATEGORIES:Attività Varie
END:VEVENT
BEGIN:VEVENT
DTSTART;TZID=Europe/Rome:20181123T190000
DTEND;TZID=Europe/Rome:20181123T210000
DTSTAMP:20260422T074822
CREATED:20181126T142743Z
LAST-MODIFIED:20181126T142743Z
UID:1883-1542999600-1543006800@aikmilano.it
SUMMARY:Palestra non disponibile
DESCRIPTION:
URL:https://aikmilano.it/evento/palestra-non-disponibile-2/
CATEGORIES:Attività Varie
END:VEVENT
BEGIN:VEVENT
DTSTART;TZID=Europe/Rome:20181123T190000
DTEND;TZID=Europe/Rome:20181123T210000
DTSTAMP:20260422T074822
CREATED:20181118T231153Z
LAST-MODIFIED:20181118T231153Z
UID:1708-1542999600-1543006800@aikmilano.it
SUMMARY:Approfondimento su Pa Tuan Chin
DESCRIPTION:Lezione di approfondimento su Pa Tuan Chin (solo per gli Associati)
URL:https://aikmilano.it/evento/approfondimento-su-pa-tuan-chin/
CATEGORIES:Pubblico
ATTACH;FMTTYPE=:
END:VEVENT
BEGIN:VEVENT
DTSTART;TZID=Europe/Rome:20181122T190000
DTEND;TZID=Europe/Rome:20181122T210000
DTSTAMP:20260422T074822
CREATED:20181126T145401Z
LAST-MODIFIED:20181126T145401Z
UID:1919-1542913200-1542920400@aikmilano.it
SUMMARY:Palestra non disponibile
DESCRIPTION:
URL:https://aikmilano.it/evento/palestra-non-disponibile-20/
CATEGORIES:Attività Varie
END:VEVENT
BEGIN:VEVENT
DTSTART;TZID=Europe/Rome:20181122T180000
DTEND;TZID=Europe/Rome:20181122T190000
DTSTAMP:20260422T074822
CREATED:20181126T145315Z
LAST-MODIFIED:20181126T145315Z
UID:1917-1542909600-1542913200@aikmilano.it
SUMMARY:Palestra non disponibile
DESCRIPTION:
URL:https://aikmilano.it/evento/palestra-non-disponibile-19/
CATEGORIES:Attività Varie
END:VEVENT
BEGIN:VEVENT
DTSTART;TZID=Europe/Rome:20181121T190000
DTEND;TZID=Europe/Rome:20181121T210000
DTSTAMP:20260422T074822
CREATED:20181126T145206Z
LAST-MODIFIED:20181126T145206Z
UID:1915-1542826800-1542834000@aikmilano.it
SUMMARY:Palestra non disponibile
DESCRIPTION:
URL:https://aikmilano.it/evento/palestra-non-disponibile-18/
CATEGORIES:Attività Varie
END:VEVENT
BEGIN:VEVENT
DTSTART;TZID=Europe/Rome:20181120T190000
DTEND;TZID=Europe/Rome:20181120T210000
DTSTAMP:20260422T074822
CREATED:20181126T145018Z
LAST-MODIFIED:20181126T145018Z
UID:1911-1542740400-1542747600@aikmilano.it
SUMMARY:Palestra non disponibile
DESCRIPTION:
URL:https://aikmilano.it/evento/palestra-non-disponibile-16/
CATEGORIES:Attività Varie
END:VEVENT
BEGIN:VEVENT
DTSTART;TZID=Europe/Rome:20181120T180000
DTEND;TZID=Europe/Rome:20181120T190000
DTSTAMP:20260422T074822
CREATED:20181126T145051Z
LAST-MODIFIED:20181126T145051Z
UID:1913-1542736800-1542740400@aikmilano.it
SUMMARY:Palestra non disponibile
DESCRIPTION:
URL:https://aikmilano.it/evento/palestra-non-disponibile-17/
CATEGORIES:Attività Varie
END:VEVENT
BEGIN:VEVENT
DTSTART;TZID=Europe/Rome:20181119T190000
DTEND;TZID=Europe/Rome:20181119T210000
DTSTAMP:20260422T074822
CREATED:20181126T144933Z
LAST-MODIFIED:20181126T144933Z
UID:1909-1542654000-1542661200@aikmilano.it
SUMMARY:Palestra non disponibile
DESCRIPTION:
URL:https://aikmilano.it/evento/palestra-non-disponibile-15/
CATEGORIES:Attività Varie
END:VEVENT
BEGIN:VEVENT
DTSTART;TZID=Europe/Rome:20181117T110000
DTEND;TZID=Europe/Rome:20181117T123000
DTSTAMP:20260422T074822
CREATED:20181126T150954Z
LAST-MODIFIED:20181126T150954Z
UID:1935-1542452400-1542457800@aikmilano.it
SUMMARY:Palestra non disponibile
DESCRIPTION:
URL:https://aikmilano.it/evento/palestra-non-disponibile-28/
CATEGORIES:Attività Varie
END:VEVENT
BEGIN:VEVENT
DTSTART;TZID=Europe/Rome:20181115T190000
DTEND;TZID=Europe/Rome:20181115T210000
DTSTAMP:20260422T074822
CREATED:20181126T150817Z
LAST-MODIFIED:20181126T150817Z
UID:1931-1542308400-1542315600@aikmilano.it
SUMMARY:Palestra non disponibile
DESCRIPTION:
URL:https://aikmilano.it/evento/palestra-non-disponibile-26/
CATEGORIES:Attività Varie
END:VEVENT
BEGIN:VEVENT
DTSTART;TZID=Europe/Rome:20181115T180000
DTEND;TZID=Europe/Rome:20181115T190000
DTSTAMP:20260422T074822
CREATED:20181126T150743Z
LAST-MODIFIED:20181126T150743Z
UID:1929-1542304800-1542308400@aikmilano.it
SUMMARY:Palestra non disponibile
DESCRIPTION:
URL:https://aikmilano.it/evento/palestra-non-disponibile-25/
CATEGORIES:Attività Varie
END:VEVENT
BEGIN:VEVENT
DTSTART;TZID=Europe/Rome:20181114T180000
DTEND;TZID=Europe/Rome:20181114T190000
DTSTAMP:20260422T074822
CREATED:20181126T150536Z
LAST-MODIFIED:20181126T150536Z
UID:1927-1542218400-1542222000@aikmilano.it
SUMMARY:Palestra non disponibile
DESCRIPTION:
URL:https://aikmilano.it/evento/palestra-non-disponibile-24/
CATEGORIES:Attività Varie
END:VEVENT
BEGIN:VEVENT
DTSTART;TZID=Europe/Rome:20181113T190000
DTEND;TZID=Europe/Rome:20181113T210000
DTSTAMP:20260422T074822
CREATED:20181126T150122Z
LAST-MODIFIED:20181126T150122Z
UID:1925-1542135600-1542142800@aikmilano.it
SUMMARY:Palestra non disponibile
DESCRIPTION:
URL:https://aikmilano.it/evento/palestra-non-disponibile-23/
CATEGORIES:Attività Varie
END:VEVENT
BEGIN:VEVENT
DTSTART;TZID=Europe/Rome:20181113T180000
DTEND;TZID=Europe/Rome:20181113T190000
DTSTAMP:20260422T074822
CREATED:20181126T150036Z
LAST-MODIFIED:20181126T150036Z
UID:1923-1542132000-1542135600@aikmilano.it
SUMMARY:Palestra non disponibile
DESCRIPTION:
URL:https://aikmilano.it/evento/palestra-non-disponibile-22/
CATEGORIES:Attività Varie
END:VEVENT
END:VCALENDAR